BEGIN:VCALENDAR
VERSION:2.0
PRODID:-//Dumbo, Brooklyn - ECPv6.13.2.1//NONSGML v1.0//EN
CALSCALE:GREGORIAN
METHOD:PUBLISH
X-WR-CALNAME:Dumbo, Brooklyn
X-ORIGINAL-URL:https://dumbo.nyc
X-WR-CALDESC:Events for Dumbo, Brooklyn
REFRESH-INTERVAL;VALUE=DURATION:PT1H
X-Robots-Tag:noindex
X-PUBLISHED-TTL:PT1H
BEGIN:VTIMEZONE
TZID:America/New_York
BEGIN:DAYLIGHT
TZOFFSETFROM:-0500
TZOFFSETTO:-0400
TZNAME:EDT
DTSTART:20260308T070000
END:DAYLIGHT
BEGIN:STANDARD
TZOFFSETFROM:-0400
TZOFFSETTO:-0500
TZNAME:EST
DTSTART:20261101T060000
END:STANDARD
END:VTIMEZONE
BEGIN:VEVENT
DTSTART;TZID=America/New_York:20260520T150000
DTEND;TZID=America/New_York:20260520T180000
DTSTAMP:20260424T113636
CREATED:20260420T173123Z
LAST-MODIFIED:20260420T181042Z
UID:10007684-1779289200-1779300000@dumbo.nyc
SUMMARY:Dumbo Design Day: Open Studios
DESCRIPTION:Join us during NYCxDesign for a full day of Dumbo Design Day—insider tours\, panels\, projections\, and an epic festival closing party! \nWith hundreds of architecture & design studios\, and dozens of indie design shops\, Dumbo was officially crowned a Design District in 2025—and we couldn’t agree more. Come check out what makes Dumbo the place to be for design. A different side of New York. \nThe following studios will be open to the public on Wednesday May 20 from 3:00pm – 6:00pm. \nAt Emily Warren Roebling Plaza \n\n Photoville\n\nAt 45 Main Street \n\n Peterson Rich Office (Suite 426)\nPost Company (Suite 844)\nBIG (9th Floor)\nSixpenny (Suite 1020)\n\nAt 40 Washington Street \n\nVisual Comfort\n\nAt 55 Washington Street \n\n inch (suite 654)\nSnøhetta (suite 900)\n\nAt 14 Jay Street \n\nM Collection | Home + Design\n\nAt 20 Jay Street \n\nLucky Risograph (Suite 217)\nEmily Nam Studio (suite 309B)\nSerrano (Suite 602)\nJAM (suite 436)\nStudio Delson Architecture P.C. (suite 636)\nPensa(suite 800)\nL+R (suite 924)\n\nAt 68 Jay Street \n\n HiLo (Suite 211)\n\nAt 64 John  Street \n\n MIOS\n\nAt 142A Plymouth Street \n\n Canton Projects\n\nAt 195 Plymouth Street \n\n SERRANO (suite 602)\nBliss Lau (suite 603)\nThird Door Brooklyn (suite 604)\n\nAt 202 Plymouth Street \n\nMark Jupiter\n\n  \n 
URL:https://dumbo.nyc/event/dumbo-design-day-open-studios/
LOCATION:Dumbo-Wide\, 11201\, United States
CATEGORIES:Design,Meetup,Mixer,Pop Up
ATTACH;FMTTYPE=image/jpeg:https://dumbo.nyc/wp-content/uploads/2026/03/Dumbo-x-Design-2026-logo-scaled.jpg
ORGANIZER;CN="Team Dumbo":MAILTO:dumbo@dumbo.nyc
END:VEVENT
END:VCALENDAR