BEGIN:VCALENDAR
VERSION:2.0
PRODID:-//Dumbo, Brooklyn - ECPv6.13.2.1//NONSGML v1.0//EN
CALSCALE:GREGORIAN
METHOD:PUBLISH
X-WR-CALNAME:Dumbo, Brooklyn
X-ORIGINAL-URL:https://dumbo.nyc
X-WR-CALDESC:Events for Dumbo, Brooklyn
REFRESH-INTERVAL;VALUE=DURATION:PT1H
X-Robots-Tag:noindex
X-PUBLISHED-TTL:PT1H
BEGIN:VTIMEZONE
TZID:America/New_York
BEGIN:DAYLIGHT
TZOFFSETFROM:-0500
TZOFFSETTO:-0400
TZNAME:EDT
DTSTART:20260308T070000
END:DAYLIGHT
BEGIN:STANDARD
TZOFFSETFROM:-0400
TZOFFSETTO:-0500
TZNAME:EST
DTSTART:20261101T060000
END:STANDARD
END:VTIMEZONE
BEGIN:VEVENT
DTSTART;TZID=America/New_York:20260213T190000
DTEND;TZID=America/New_York:20260213T230000
DTSTAMP:20260424T021753
CREATED:20260120T165851Z
LAST-MODIFIED:20260120T165851Z
UID:10004745-1771009200-1771023600@dumbo.nyc
SUMMARY:Pre Valentine's Day Side Peice Celebration
DESCRIPTION:Kick off Valentine’s Day weekend with a night built for fun\, freedom\, vibes\, and a little harmless mischief. Whether you’re boo’d up\, situationship-ed\, single\, or truly “it’s complicated\,” this is your night to dance\, drink\, and not take love too seriously. \n🎧 Music by DJ Price Is Right\nExpect a high-energy mix of: 🔥 R&B slow burns 🔥 Hip-hop + party classics 🔥 Dancehall\, afrobeats & feel-good vibes 🔥 Anti-love anthems + toxic bangers! He’s setting the tone for a night of fun\, flirting\, and chaos in the BEST way. \n💘 What to Expect\nA playful\, unapologetic pre-Valentine’s celebration\nMusic that keeps the dance floor busy \nSignature cocktails + themed drink specials \nA crowd ready to let loose\nPhoto-ready moments and plenty of inside jokes \n😈 Theme: Side Piece Edition\nWear red if you’re taken\, Pink if you’re available\, Black if you’re here for the drama. Totally optional — but definitely more fun. \n💋 Who’s This Party For?\nSingles. Couples. Sneaky links. Friends escaping couple-dom for the night. Anyone who just wants a good time before the roses and heart-shaped boxes take over the weekend.
URL:https://dumbo.nyc/event/pre-valentines-day-side-peice-celebration/
LOCATION:Time Out Market\, 55 Water St\, Brooklyn\, 11201\, United States
CATEGORIES:Food & Beverage,Happy Hour,Mixer,Party
ATTACH;FMTTYPE=image/png:https://dumbo.nyc/wp-content/uploads/2026/01/Eventbrite-Header-59-copy.png
END:VEVENT
BEGIN:VEVENT
DTSTART;TZID=America/New_York:20260211T183000
DTEND;TZID=America/New_York:20260211T213000
DTSTAMP:20260424T021753
CREATED:20260202T181443Z
LAST-MODIFIED:20260202T181443Z
UID:10004837-1770834600-1770845400@dumbo.nyc
SUMMARY:Galentine’s Day at ABC Kitchens Dumbo (Adults 21+)
DESCRIPTION:Celebrate Galentine’s Day with an evening designed for connection\, creativity\, and great food at ABC Kitchens Dumbo. This special event brings together our two female chefs\, Executive Chef Ayaka and Pastry Chef Eliana\, for a playful and indulgent night out. \nGuests will enjoy an interactive cookie decorating experience led by Pastry Chef Eliana\, complete with a curated decorating kit\, while Executive Chef Ayaka presents a family style dinner inspired by comforting\, shareable flavors. The evening is complemented by craft cocktails and a selection of premium wines. \nTickets Include: \nCookie Decorating Kit\nFive cookies with icing and assorted toppings\, guided by our Pastry Chef \nFamily Style Dinner \nAppetizers\nGreen chickpea hummus with whole wheat pita and crudité\nGuacamole with tomatillo salsa and warm crunchy tortillas\nPeekytoe crab toast with dill and lemon aioli \nEntrées\nWood-fired roasted artichoke with aioli and herbs\nSpinach with goat cheese and herbs pizza\nArroz con pollo with crispy skin\, lemon zest\, and black pepper \nDesserts\nCinnamon churros with dark chocolate dipping sauce\nWarm madeleines \nBeverages\nTwo drink tickets are valid for featured cocktails\, including the Ginger Margarita and Raspberry Lychee Bellini\, or premium red and white wine. \nGather your favorite people and join us for a festive\, hands-on Galentine’s celebration filled with great food\, drinks\, and a little sweetness to take home.
URL:https://dumbo.nyc/event/galentines-day-at-abc-kitchens-dumbo-adults-21/
LOCATION:55 Water Street\, 55 Water Street\, Dumbo\, 11201
CATEGORIES:Food & Beverage,Party
ATTACH;FMTTYPE=image/png:https://dumbo.nyc/wp-content/uploads/2026/01/jean-georges-email-abc-012726-1-scaled.png
END:VEVENT
BEGIN:VEVENT
DTSTART;TZID=America/New_York:20260208T170000
DTEND;TZID=America/New_York:20260208T233000
DTSTAMP:20260424T021753
CREATED:20260113T151636Z
LAST-MODIFIED:20260113T151636Z
UID:10004461-1770570000-1770593400@dumbo.nyc
SUMMARY:SUPER BOWL LX
DESCRIPTION:🏈 Super Bowl Watch Party 🏈 \n🎉 What to Expect:\n✅ Big TVs with Sound\n✅ Food & Drinks Specials\n✅ Family-Friendly Atmosphere \nVisit The Randolph website to explore reservation options—walk-ins are welcome too! \nIf you have 20 or more people in your group please inquire using the events section on the website: randolphbeer.com
URL:https://dumbo.nyc/event/super-bowl-lx/
LOCATION:The Randolph\, 82 Prospect St\, Brooklyn\, 11201
CATEGORIES:Food & Beverage
ATTACH;FMTTYPE=image/jpeg:https://dumbo.nyc/wp-content/uploads/2026/01/SUPER-BOWL-LX.jpg
ORGANIZER;CN="The Randolph":MAILTO:events@randolphbeer.com
END:VEVENT
BEGIN:VEVENT
DTSTART;TZID=America/New_York:20260208T170000
DTEND;TZID=America/New_York:20260208T220000
DTSTAMP:20260424T021753
CREATED:20260205T161502Z
LAST-MODIFIED:20260205T161502Z
UID:10004848-1770570000-1770588000@dumbo.nyc
SUMMARY:Malka Super Bowl Watch Party
DESCRIPTION:Malka DUMBO is streaming the Super Bowl! Join us for dinner and game day specials. \nSunday\, February 8 | 5-10pm\nReservations available on Resy
URL:https://dumbo.nyc/event/malka-super-bowl-watch-party/
LOCATION:Malka\, 56 Adams St\, Brooklyn\, 11201
CATEGORIES:Food & Beverage
ATTACH;FMTTYPE=image/jpeg:https://dumbo.nyc/wp-content/uploads/2026/02/Schnitzel_MalkaDumbo-2-4-scaled.jpg
ORGANIZER;CN="malka":MAILTO:dumbo@malka.nyc
END:VEVENT
BEGIN:VEVENT
DTSTART;TZID=America/New_York:20260208T150000
DTEND;TZID=America/New_York:20260208T230000
DTSTAMP:20260424T021753
CREATED:20260120T165944Z
LAST-MODIFIED:20260120T165944Z
UID:10004482-1770562800-1770591600@dumbo.nyc
SUMMARY:Big Bowl LX Viewing Party at Time Out Market
DESCRIPTION:Get ready for the ultimate all-day football celebration at Time Out Market New York!\nEnjoy massive screens\, game-day drinks\, live music\, and nonstop energy in the heart of DUMBO. \n⭐ Event Highlights\n📺 Giant Screen Viewing\nCatch every play\, commercial\, and halftime moment on our massive screen with unbeatable views. \n🎶 Live Music from the HEAVY HITTTERs\nLive Music by DJ Enuff & Mike Medium \n🍹 Specialty Game-Day Drinks\nExclusive Super Bowl–themed cocktails\, beer buckets\, and pitchers available only during the event. \n🥃 Sample Tastings\nSip and sample featured spirits with Whistle Pig tastings throughout the day. \n🎁 Prize Giveaways\nEnter our $5 Mystery Prize Raffle for a chance to win fun surprises and swag. \nDoors open early. Come eat\, drink\, and hang all day through the final whistle. \n📍 Location: Time Out Market New York \n📅 Date: Sunday\, February 8th\, 3pm \n🎟️ Admission: Free to attend | Food & drinks available for purchase
URL:https://dumbo.nyc/event/big-bowl-lx-viewing-party-at-time-out-market/
LOCATION:Time Out Market\, 55 Water St\, Brooklyn\, 11201\, United States
CATEGORIES:Food & Beverage,Happy Hour,Party
ATTACH;FMTTYPE=image/png:https://dumbo.nyc/wp-content/uploads/2026/01/SUPER-BOWL-2.png
END:VEVENT
BEGIN:VEVENT
DTSTART;TZID=America/New_York:20260206T190000
DTEND;TZID=America/New_York:20260206T230000
DTSTAMP:20260424T021753
CREATED:20260120T170026Z
LAST-MODIFIED:20260120T170026Z
UID:10004487-1770404400-1770418800@dumbo.nyc
SUMMARY:Game Night Fridays at Time Out Market
DESCRIPTION:Kick off your Friday night with games\, beats\, and skyline views at Game Night Fridays at Time Out Market. \nChallenge your friends to your favorite board and card games while enjoying live music from DJ Stretch and DJ Price Is Right\, setting the vibe all night long. Sip on drink specials\, catch live sports on our projector screen\, and soak in some of the best city views around. \nWhether you’re competitive\, casual\, or just here for the music and drinks\, Game Night Fridays is your new end-of-week tradition.\nLocationTime Out Market New York 5th Floor Rooftop \nPerfect for friends\, game lovers\, after-work hangouts\, and anyone looking for a fun\, social Friday night experience. \nEvery Friday 7pm -11pm
URL:https://dumbo.nyc/event/game-night-fridays-at-time-out-market/2026-02-06/
LOCATION:Time Out Market\, 55 Water St\, Brooklyn\, 11201\, United States
CATEGORIES:Food & Beverage,Happy Hour,Party
ATTACH;FMTTYPE=image/png:https://dumbo.nyc/wp-content/uploads/2026/01/Eventbrite-Header-59.png
END:VEVENT
BEGIN:VEVENT
DTSTART;TZID=America/New_York:20260205T183000
DTEND;TZID=America/New_York:20260205T203000
DTSTAMP:20260424T021753
CREATED:20260202T181534Z
LAST-MODIFIED:20260202T181534Z
UID:10004834-1770316200-1770323400@dumbo.nyc
SUMMARY:Wine Class 101 - Old World vs. New World Wines
DESCRIPTION:THURSDAY\, FEBRUARY 5TH: \nWe’ll explore how geography\, climate\, and winemaking traditions shape the wines we love – from the earthy elegance of Burgundy to the bold\, fruit-forward Napa Cabernets.
URL:https://dumbo.nyc/event/wine-class-101-old-world-vs-new-world-wines/
LOCATION:Blanc et Rouge\, 81 Washington St\, Brooklyn\, 11201\, United States
CATEGORIES:Food & Beverage
END:VEVENT
BEGIN:VEVENT
DTSTART;TZID=America/New_York:20260130T190000
DTEND;TZID=America/New_York:20260130T230000
DTSTAMP:20260424T021753
CREATED:20260120T170026Z
LAST-MODIFIED:20260120T170026Z
UID:10004486-1769799600-1769814000@dumbo.nyc
SUMMARY:Game Night Fridays at Time Out Market
DESCRIPTION:Kick off your Friday night with games\, beats\, and skyline views at Game Night Fridays at Time Out Market. \nChallenge your friends to your favorite board and card games while enjoying live music from DJ Stretch and DJ Price Is Right\, setting the vibe all night long. Sip on drink specials\, catch live sports on our projector screen\, and soak in some of the best city views around. \nWhether you’re competitive\, casual\, or just here for the music and drinks\, Game Night Fridays is your new end-of-week tradition.\nLocationTime Out Market New York 5th Floor Rooftop \nPerfect for friends\, game lovers\, after-work hangouts\, and anyone looking for a fun\, social Friday night experience. \nEvery Friday 7pm -11pm
URL:https://dumbo.nyc/event/game-night-fridays-at-time-out-market/2026-01-30/
LOCATION:Time Out Market\, 55 Water St\, Brooklyn\, 11201\, United States
CATEGORIES:Food & Beverage,Happy Hour,Party
ATTACH;FMTTYPE=image/png:https://dumbo.nyc/wp-content/uploads/2026/01/Eventbrite-Header-59.png
END:VEVENT
BEGIN:VEVENT
DTSTART;TZID=America/New_York:20260127T173000
DTEND;TZID=America/New_York:20260127T200000
DTSTAMP:20260424T021753
CREATED:20260122T182056Z
LAST-MODIFIED:20260122T182056Z
UID:10004823-1769535000-1769544000@dumbo.nyc
SUMMARY:Funemployed?! & Friends Cozy\, Comfort Potluck
DESCRIPTION:Come hang out with folks who relate at the Funemployed ?! & Friends Cozy\, Comfort Potluck. \nThis Tuesday\, January 27th\, 5:30 – 8 pm @ Fabrik Dumbo. \nIt’s a comfort food themed potluck where sweats/PJs are highly encouraged. All are welcome\, whether you’re unemployed\, employed or somewhere in between – more here: https://luma.com/sgwssvfx.
URL:https://dumbo.nyc/event/funemployed-friends-cozy-comfort-potluck/
LOCATION:20  Jay St.\, 20 Jay St Suite 218\, Brooklyn\, 11201
CATEGORIES:Food & Beverage,Meetup,Mixer
ATTACH;FMTTYPE=image/jpeg:https://dumbo.nyc/wp-content/uploads/2026/01/Event-12-Cozy-Potluck.jpg
ORGANIZER;CN="Funemployed ?! &amp%3B Friends":MAILTO:emmadub1025@gmail.com
END:VEVENT
END:VCALENDAR