BEGIN:VCALENDAR
VERSION:2.0
PRODID:-//Dumbo, Brooklyn - ECPv6.13.2.1//NONSGML v1.0//EN
CALSCALE:GREGORIAN
METHOD:PUBLISH
X-WR-CALNAME:Dumbo, Brooklyn
X-ORIGINAL-URL:https://dumbo.nyc
X-WR-CALDESC:Events for Dumbo, Brooklyn
REFRESH-INTERVAL;VALUE=DURATION:PT1H
X-Robots-Tag:noindex
X-PUBLISHED-TTL:PT1H
BEGIN:VTIMEZONE
TZID:America/New_York
BEGIN:DAYLIGHT
TZOFFSETFROM:-0500
TZOFFSETTO:-0400
TZNAME:EDT
DTSTART:20260308T070000
END:DAYLIGHT
BEGIN:STANDARD
TZOFFSETFROM:-0400
TZOFFSETTO:-0500
TZNAME:EST
DTSTART:20261101T060000
END:STANDARD
END:VTIMEZONE
BEGIN:VEVENT
DTSTART;TZID=America/New_York:20260425T150000
DTEND;TZID=America/New_York:20260425T160000
DTSTAMP:20260422T140652
CREATED:20260420T153343Z
LAST-MODIFIED:20260420T153343Z
UID:10007529-1777129200-1777132800@dumbo.nyc
SUMMARY:Tyromancy Live! An Immersive Cheese Musical
DESCRIPTION:This wacky\, heartfelt musical blends original songs\, audience interaction\, and an actual cheese tasting. Yes\, there will be cheese.
URL:https://dumbo.nyc/event/tyromancy-live-an-immersive-cheese-musical/2026-04-25/1/
LOCATION:The RAT NYC\, 68-117 Jay Street\, Brooklyn\, 11201
CATEGORIES:Theater
ATTACH;FMTTYPE=image/jpeg:https://dumbo.nyc/wp-content/uploads/2026/04/Tyromancy-Poster.jpg
ORGANIZER;CN="The RAT NYC":MAILTO:info@theratnyc.com
END:VEVENT
BEGIN:VEVENT
DTSTART;TZID=America/New_York:20260425T210000
DTEND;TZID=America/New_York:20260425T220000
DTSTAMP:20260422T140652
CREATED:20260420T153343Z
LAST-MODIFIED:20260420T153343Z
UID:10007530-1777150800-1777154400@dumbo.nyc
SUMMARY:Tyromancy Live! An Immersive Cheese Musical
DESCRIPTION:This wacky\, heartfelt musical blends original songs\, audience interaction\, and an actual cheese tasting. Yes\, there will be cheese.
URL:https://dumbo.nyc/event/tyromancy-live-an-immersive-cheese-musical/2026-04-25/2/
LOCATION:The RAT NYC\, 68-117 Jay Street\, Brooklyn\, 11201
CATEGORIES:Theater
ATTACH;FMTTYPE=image/jpeg:https://dumbo.nyc/wp-content/uploads/2026/04/Tyromancy-Poster.jpg
ORGANIZER;CN="The RAT NYC":MAILTO:info@theratnyc.com
END:VEVENT
BEGIN:VEVENT
DTSTART;TZID=America/New_York:20260426T170000
DTEND;TZID=America/New_York:20260426T180000
DTSTAMP:20260422T140652
CREATED:20260420T153343Z
LAST-MODIFIED:20260420T153343Z
UID:10007531-1777222800-1777226400@dumbo.nyc
SUMMARY:Tyromancy Live! An Immersive Cheese Musical
DESCRIPTION:This wacky\, heartfelt musical blends original songs\, audience interaction\, and an actual cheese tasting. Yes\, there will be cheese.
URL:https://dumbo.nyc/event/tyromancy-live-an-immersive-cheese-musical/2026-04-26/
LOCATION:The RAT NYC\, 68-117 Jay Street\, Brooklyn\, 11201
CATEGORIES:Theater
ATTACH;FMTTYPE=image/jpeg:https://dumbo.nyc/wp-content/uploads/2026/04/Tyromancy-Poster.jpg
ORGANIZER;CN="The RAT NYC":MAILTO:info@theratnyc.com
END:VEVENT
BEGIN:VEVENT
DTSTART;TZID=America/New_York:20260502T130000
DTEND;TZID=America/New_York:20260502T140000
DTSTAMP:20260422T140652
CREATED:20260420T153343Z
LAST-MODIFIED:20260420T153343Z
UID:10007532-1777726800-1777730400@dumbo.nyc
SUMMARY:Tyromancy Live! An Immersive Cheese Musical
DESCRIPTION:This wacky\, heartfelt musical blends original songs\, audience interaction\, and an actual cheese tasting. Yes\, there will be cheese.
URL:https://dumbo.nyc/event/tyromancy-live-an-immersive-cheese-musical/2026-05-02/1/
LOCATION:The RAT NYC\, 68-117 Jay Street\, Brooklyn\, 11201
CATEGORIES:Theater
ATTACH;FMTTYPE=image/jpeg:https://dumbo.nyc/wp-content/uploads/2026/04/Tyromancy-Poster.jpg
ORGANIZER;CN="The RAT NYC":MAILTO:info@theratnyc.com
END:VEVENT
BEGIN:VEVENT
DTSTART;TZID=America/New_York:20260502T170000
DTEND;TZID=America/New_York:20260502T180000
DTSTAMP:20260422T140652
CREATED:20260420T153343Z
LAST-MODIFIED:20260420T153343Z
UID:10007533-1777741200-1777744800@dumbo.nyc
SUMMARY:Tyromancy Live! An Immersive Cheese Musical
DESCRIPTION:This wacky\, heartfelt musical blends original songs\, audience interaction\, and an actual cheese tasting. Yes\, there will be cheese.
URL:https://dumbo.nyc/event/tyromancy-live-an-immersive-cheese-musical/2026-05-02/2/
LOCATION:The RAT NYC\, 68-117 Jay Street\, Brooklyn\, 11201
CATEGORIES:Theater
ATTACH;FMTTYPE=image/jpeg:https://dumbo.nyc/wp-content/uploads/2026/04/Tyromancy-Poster.jpg
ORGANIZER;CN="The RAT NYC":MAILTO:info@theratnyc.com
END:VEVENT
BEGIN:VEVENT
DTSTART;TZID=America/New_York:20260503T140000
DTEND;TZID=America/New_York:20260503T150000
DTSTAMP:20260422T140652
CREATED:20260420T153343Z
LAST-MODIFIED:20260420T153343Z
UID:10007534-1777816800-1777820400@dumbo.nyc
SUMMARY:Tyromancy Live! An Immersive Cheese Musical
DESCRIPTION:This wacky\, heartfelt musical blends original songs\, audience interaction\, and an actual cheese tasting. Yes\, there will be cheese.
URL:https://dumbo.nyc/event/tyromancy-live-an-immersive-cheese-musical/2026-05-03/
LOCATION:The RAT NYC\, 68-117 Jay Street\, Brooklyn\, 11201
CATEGORIES:Theater
ATTACH;FMTTYPE=image/jpeg:https://dumbo.nyc/wp-content/uploads/2026/04/Tyromancy-Poster.jpg
ORGANIZER;CN="The RAT NYC":MAILTO:info@theratnyc.com
END:VEVENT
END:VCALENDAR