BEGIN:VCALENDAR
VERSION:2.0
PRODID:-//Dumbo, Brooklyn - ECPv6.13.2.1//NONSGML v1.0//EN
CALSCALE:GREGORIAN
METHOD:PUBLISH
X-ORIGINAL-URL:https://dumbo.nyc
X-WR-CALDESC:Events for Dumbo, Brooklyn
REFRESH-INTERVAL;VALUE=DURATION:PT1H
X-Robots-Tag:noindex
X-PUBLISHED-TTL:PT1H
BEGIN:VTIMEZONE
TZID:America/New_York
BEGIN:DAYLIGHT
TZOFFSETFROM:-0500
TZOFFSETTO:-0400
TZNAME:EDT
DTSTART:20260308T070000
END:DAYLIGHT
BEGIN:STANDARD
TZOFFSETFROM:-0400
TZOFFSETTO:-0500
TZNAME:EST
DTSTART:20261101T060000
END:STANDARD
END:VTIMEZONE
BEGIN:VEVENT
DTSTART;TZID=America/New_York:20260425T170000
DTEND;TZID=America/New_York:20260425T190000
DTSTAMP:20260424T080253
CREATED:20260224T193133Z
LAST-MODIFIED:20260224T193133Z
UID:10006095-1777136400-1777143600@dumbo.nyc
SUMMARY:Studio Sessions with CAM
DESCRIPTION:Join us for a creative evening in the studio as we paint\, sip wine\, and explore colorful symbolic animals. \nWhether you’re looking for a date night idea\, a community gathering\, or simple something new to try\, this session is a fun and inspiring way to experience art in a relaxed and welcoming space.
URL:https://dumbo.nyc/event/studio-sessions-with-cam-2/2026-04-25/
LOCATION:20  Jay St.\, 20 Jay St Suite 218\, Brooklyn\, 11201
CATEGORIES:Art Class
ATTACH;FMTTYPE=image/png:https://dumbo.nyc/wp-content/uploads/2026/02/Flyer4.png
END:VEVENT
BEGIN:VEVENT
DTSTART;TZID=America/New_York:20260426T170000
DTEND;TZID=America/New_York:20260426T190000
DTSTAMP:20260424T080253
CREATED:20260224T193133Z
LAST-MODIFIED:20260224T193133Z
UID:10006096-1777222800-1777230000@dumbo.nyc
SUMMARY:Studio Sessions with CAM
DESCRIPTION:Join us for a creative evening in the studio as we paint\, sip wine\, and explore colorful symbolic animals. \nWhether you’re looking for a date night idea\, a community gathering\, or simple something new to try\, this session is a fun and inspiring way to experience art in a relaxed and welcoming space.
URL:https://dumbo.nyc/event/studio-sessions-with-cam-2/2026-04-26/
LOCATION:20  Jay St.\, 20 Jay St Suite 218\, Brooklyn\, 11201
CATEGORIES:Art Class
ATTACH;FMTTYPE=image/png:https://dumbo.nyc/wp-content/uploads/2026/02/Flyer4.png
END:VEVENT
BEGIN:VEVENT
DTSTART;TZID=America/New_York:20260428T170000
DTEND;TZID=America/New_York:20260428T190000
DTSTAMP:20260424T080253
CREATED:20260224T193133Z
LAST-MODIFIED:20260224T193133Z
UID:10006097-1777395600-1777402800@dumbo.nyc
SUMMARY:Studio Sessions with CAM
DESCRIPTION:Join us for a creative evening in the studio as we paint\, sip wine\, and explore colorful symbolic animals. \nWhether you’re looking for a date night idea\, a community gathering\, or simple something new to try\, this session is a fun and inspiring way to experience art in a relaxed and welcoming space.
URL:https://dumbo.nyc/event/studio-sessions-with-cam-2/2026-04-28/
LOCATION:20  Jay St.\, 20 Jay St Suite 218\, Brooklyn\, 11201
CATEGORIES:Art Class
ATTACH;FMTTYPE=image/png:https://dumbo.nyc/wp-content/uploads/2026/02/Flyer4.png
END:VEVENT
BEGIN:VEVENT
DTSTART;TZID=America/New_York:20260502T170000
DTEND;TZID=America/New_York:20260502T190000
DTSTAMP:20260424T080253
CREATED:20260224T193133Z
LAST-MODIFIED:20260224T193133Z
UID:10006098-1777741200-1777748400@dumbo.nyc
SUMMARY:Studio Sessions with CAM
DESCRIPTION:Join us for a creative evening in the studio as we paint\, sip wine\, and explore colorful symbolic animals. \nWhether you’re looking for a date night idea\, a community gathering\, or simple something new to try\, this session is a fun and inspiring way to experience art in a relaxed and welcoming space.
URL:https://dumbo.nyc/event/studio-sessions-with-cam-2/2026-05-02/
LOCATION:20  Jay St.\, 20 Jay St Suite 218\, Brooklyn\, 11201
CATEGORIES:Art Class
ATTACH;FMTTYPE=image/png:https://dumbo.nyc/wp-content/uploads/2026/02/Flyer4.png
END:VEVENT
BEGIN:VEVENT
DTSTART;TZID=America/New_York:20260503T170000
DTEND;TZID=America/New_York:20260503T190000
DTSTAMP:20260424T080253
CREATED:20260224T193133Z
LAST-MODIFIED:20260224T193133Z
UID:10006099-1777827600-1777834800@dumbo.nyc
SUMMARY:Studio Sessions with CAM
DESCRIPTION:Join us for a creative evening in the studio as we paint\, sip wine\, and explore colorful symbolic animals. \nWhether you’re looking for a date night idea\, a community gathering\, or simple something new to try\, this session is a fun and inspiring way to experience art in a relaxed and welcoming space.
URL:https://dumbo.nyc/event/studio-sessions-with-cam-2/2026-05-03/
LOCATION:20  Jay St.\, 20 Jay St Suite 218\, Brooklyn\, 11201
CATEGORIES:Art Class
ATTACH;FMTTYPE=image/png:https://dumbo.nyc/wp-content/uploads/2026/02/Flyer4.png
END:VEVENT
BEGIN:VEVENT
DTSTART;TZID=America/New_York:20260505T170000
DTEND;TZID=America/New_York:20260505T190000
DTSTAMP:20260424T080253
CREATED:20260224T193133Z
LAST-MODIFIED:20260224T193133Z
UID:10006100-1778000400-1778007600@dumbo.nyc
SUMMARY:Studio Sessions with CAM
DESCRIPTION:Join us for a creative evening in the studio as we paint\, sip wine\, and explore colorful symbolic animals. \nWhether you’re looking for a date night idea\, a community gathering\, or simple something new to try\, this session is a fun and inspiring way to experience art in a relaxed and welcoming space.
URL:https://dumbo.nyc/event/studio-sessions-with-cam-2/2026-05-05/
LOCATION:20  Jay St.\, 20 Jay St Suite 218\, Brooklyn\, 11201
CATEGORIES:Art Class
ATTACH;FMTTYPE=image/png:https://dumbo.nyc/wp-content/uploads/2026/02/Flyer4.png
END:VEVENT
BEGIN:VEVENT
DTSTART;TZID=America/New_York:20260509T170000
DTEND;TZID=America/New_York:20260509T190000
DTSTAMP:20260424T080253
CREATED:20260224T193133Z
LAST-MODIFIED:20260224T193133Z
UID:10006101-1778346000-1778353200@dumbo.nyc
SUMMARY:Studio Sessions with CAM
DESCRIPTION:Join us for a creative evening in the studio as we paint\, sip wine\, and explore colorful symbolic animals. \nWhether you’re looking for a date night idea\, a community gathering\, or simple something new to try\, this session is a fun and inspiring way to experience art in a relaxed and welcoming space.
URL:https://dumbo.nyc/event/studio-sessions-with-cam-2/2026-05-09/
LOCATION:20  Jay St.\, 20 Jay St Suite 218\, Brooklyn\, 11201
CATEGORIES:Art Class
ATTACH;FMTTYPE=image/png:https://dumbo.nyc/wp-content/uploads/2026/02/Flyer4.png
END:VEVENT
BEGIN:VEVENT
DTSTART;TZID=America/New_York:20260510T170000
DTEND;TZID=America/New_York:20260510T190000
DTSTAMP:20260424T080253
CREATED:20260224T193133Z
LAST-MODIFIED:20260224T193133Z
UID:10006102-1778432400-1778439600@dumbo.nyc
SUMMARY:Studio Sessions with CAM
DESCRIPTION:Join us for a creative evening in the studio as we paint\, sip wine\, and explore colorful symbolic animals. \nWhether you’re looking for a date night idea\, a community gathering\, or simple something new to try\, this session is a fun and inspiring way to experience art in a relaxed and welcoming space.
URL:https://dumbo.nyc/event/studio-sessions-with-cam-2/2026-05-10/
LOCATION:20  Jay St.\, 20 Jay St Suite 218\, Brooklyn\, 11201
CATEGORIES:Art Class
ATTACH;FMTTYPE=image/png:https://dumbo.nyc/wp-content/uploads/2026/02/Flyer4.png
END:VEVENT
BEGIN:VEVENT
DTSTART;TZID=America/New_York:20260512T170000
DTEND;TZID=America/New_York:20260512T190000
DTSTAMP:20260424T080253
CREATED:20260224T193133Z
LAST-MODIFIED:20260224T193133Z
UID:10006103-1778605200-1778612400@dumbo.nyc
SUMMARY:Studio Sessions with CAM
DESCRIPTION:Join us for a creative evening in the studio as we paint\, sip wine\, and explore colorful symbolic animals. \nWhether you’re looking for a date night idea\, a community gathering\, or simple something new to try\, this session is a fun and inspiring way to experience art in a relaxed and welcoming space.
URL:https://dumbo.nyc/event/studio-sessions-with-cam-2/2026-05-12/
LOCATION:20  Jay St.\, 20 Jay St Suite 218\, Brooklyn\, 11201
CATEGORIES:Art Class
ATTACH;FMTTYPE=image/png:https://dumbo.nyc/wp-content/uploads/2026/02/Flyer4.png
END:VEVENT
BEGIN:VEVENT
DTSTART;TZID=America/New_York:20260516T170000
DTEND;TZID=America/New_York:20260516T190000
DTSTAMP:20260424T080253
CREATED:20260224T193133Z
LAST-MODIFIED:20260224T193133Z
UID:10006104-1778950800-1778958000@dumbo.nyc
SUMMARY:Studio Sessions with CAM
DESCRIPTION:Join us for a creative evening in the studio as we paint\, sip wine\, and explore colorful symbolic animals. \nWhether you’re looking for a date night idea\, a community gathering\, or simple something new to try\, this session is a fun and inspiring way to experience art in a relaxed and welcoming space.
URL:https://dumbo.nyc/event/studio-sessions-with-cam-2/2026-05-16/
LOCATION:20  Jay St.\, 20 Jay St Suite 218\, Brooklyn\, 11201
CATEGORIES:Art Class
ATTACH;FMTTYPE=image/png:https://dumbo.nyc/wp-content/uploads/2026/02/Flyer4.png
END:VEVENT
BEGIN:VEVENT
DTSTART;TZID=America/New_York:20260517T170000
DTEND;TZID=America/New_York:20260517T190000
DTSTAMP:20260424T080253
CREATED:20260224T193133Z
LAST-MODIFIED:20260224T193133Z
UID:10006105-1779037200-1779044400@dumbo.nyc
SUMMARY:Studio Sessions with CAM
DESCRIPTION:Join us for a creative evening in the studio as we paint\, sip wine\, and explore colorful symbolic animals. \nWhether you’re looking for a date night idea\, a community gathering\, or simple something new to try\, this session is a fun and inspiring way to experience art in a relaxed and welcoming space.
URL:https://dumbo.nyc/event/studio-sessions-with-cam-2/2026-05-17/
LOCATION:20  Jay St.\, 20 Jay St Suite 218\, Brooklyn\, 11201
CATEGORIES:Art Class
ATTACH;FMTTYPE=image/png:https://dumbo.nyc/wp-content/uploads/2026/02/Flyer4.png
END:VEVENT
BEGIN:VEVENT
DTSTART;TZID=America/New_York:20260519T170000
DTEND;TZID=America/New_York:20260519T190000
DTSTAMP:20260424T080253
CREATED:20260224T193133Z
LAST-MODIFIED:20260224T193133Z
UID:10006106-1779210000-1779217200@dumbo.nyc
SUMMARY:Studio Sessions with CAM
DESCRIPTION:Join us for a creative evening in the studio as we paint\, sip wine\, and explore colorful symbolic animals. \nWhether you’re looking for a date night idea\, a community gathering\, or simple something new to try\, this session is a fun and inspiring way to experience art in a relaxed and welcoming space.
URL:https://dumbo.nyc/event/studio-sessions-with-cam-2/2026-05-19/
LOCATION:20  Jay St.\, 20 Jay St Suite 218\, Brooklyn\, 11201
CATEGORIES:Art Class
ATTACH;FMTTYPE=image/png:https://dumbo.nyc/wp-content/uploads/2026/02/Flyer4.png
END:VEVENT
BEGIN:VEVENT
DTSTART;TZID=America/New_York:20260523T170000
DTEND;TZID=America/New_York:20260523T190000
DTSTAMP:20260424T080253
CREATED:20260224T193133Z
LAST-MODIFIED:20260224T193133Z
UID:10006107-1779555600-1779562800@dumbo.nyc
SUMMARY:Studio Sessions with CAM
DESCRIPTION:Join us for a creative evening in the studio as we paint\, sip wine\, and explore colorful symbolic animals. \nWhether you’re looking for a date night idea\, a community gathering\, or simple something new to try\, this session is a fun and inspiring way to experience art in a relaxed and welcoming space.
URL:https://dumbo.nyc/event/studio-sessions-with-cam-2/2026-05-23/
LOCATION:20  Jay St.\, 20 Jay St Suite 218\, Brooklyn\, 11201
CATEGORIES:Art Class
ATTACH;FMTTYPE=image/png:https://dumbo.nyc/wp-content/uploads/2026/02/Flyer4.png
END:VEVENT
BEGIN:VEVENT
DTSTART;TZID=America/New_York:20260524T170000
DTEND;TZID=America/New_York:20260524T190000
DTSTAMP:20260424T080253
CREATED:20260224T193133Z
LAST-MODIFIED:20260224T193133Z
UID:10006108-1779642000-1779649200@dumbo.nyc
SUMMARY:Studio Sessions with CAM
DESCRIPTION:Join us for a creative evening in the studio as we paint\, sip wine\, and explore colorful symbolic animals. \nWhether you’re looking for a date night idea\, a community gathering\, or simple something new to try\, this session is a fun and inspiring way to experience art in a relaxed and welcoming space.
URL:https://dumbo.nyc/event/studio-sessions-with-cam-2/2026-05-24/
LOCATION:20  Jay St.\, 20 Jay St Suite 218\, Brooklyn\, 11201
CATEGORIES:Art Class
ATTACH;FMTTYPE=image/png:https://dumbo.nyc/wp-content/uploads/2026/02/Flyer4.png
END:VEVENT
BEGIN:VEVENT
DTSTART;TZID=America/New_York:20260526T170000
DTEND;TZID=America/New_York:20260526T190000
DTSTAMP:20260424T080253
CREATED:20260224T193133Z
LAST-MODIFIED:20260224T193133Z
UID:10006109-1779814800-1779822000@dumbo.nyc
SUMMARY:Studio Sessions with CAM
DESCRIPTION:Join us for a creative evening in the studio as we paint\, sip wine\, and explore colorful symbolic animals. \nWhether you’re looking for a date night idea\, a community gathering\, or simple something new to try\, this session is a fun and inspiring way to experience art in a relaxed and welcoming space.
URL:https://dumbo.nyc/event/studio-sessions-with-cam-2/2026-05-26/
LOCATION:20  Jay St.\, 20 Jay St Suite 218\, Brooklyn\, 11201
CATEGORIES:Art Class
ATTACH;FMTTYPE=image/png:https://dumbo.nyc/wp-content/uploads/2026/02/Flyer4.png
END:VEVENT
BEGIN:VEVENT
DTSTART;TZID=America/New_York:20260530T170000
DTEND;TZID=America/New_York:20260530T190000
DTSTAMP:20260424T080253
CREATED:20260224T193133Z
LAST-MODIFIED:20260224T193133Z
UID:10006110-1780160400-1780167600@dumbo.nyc
SUMMARY:Studio Sessions with CAM
DESCRIPTION:Join us for a creative evening in the studio as we paint\, sip wine\, and explore colorful symbolic animals. \nWhether you’re looking for a date night idea\, a community gathering\, or simple something new to try\, this session is a fun and inspiring way to experience art in a relaxed and welcoming space.
URL:https://dumbo.nyc/event/studio-sessions-with-cam-2/2026-05-30/
LOCATION:20  Jay St.\, 20 Jay St Suite 218\, Brooklyn\, 11201
CATEGORIES:Art Class
ATTACH;FMTTYPE=image/png:https://dumbo.nyc/wp-content/uploads/2026/02/Flyer4.png
END:VEVENT
BEGIN:VEVENT
DTSTART;TZID=America/New_York:20260531T170000
DTEND;TZID=America/New_York:20260531T190000
DTSTAMP:20260424T080253
CREATED:20260224T193133Z
LAST-MODIFIED:20260224T193133Z
UID:10006111-1780246800-1780254000@dumbo.nyc
SUMMARY:Studio Sessions with CAM
DESCRIPTION:Join us for a creative evening in the studio as we paint\, sip wine\, and explore colorful symbolic animals. \nWhether you’re looking for a date night idea\, a community gathering\, or simple something new to try\, this session is a fun and inspiring way to experience art in a relaxed and welcoming space.
URL:https://dumbo.nyc/event/studio-sessions-with-cam-2/2026-05-31/
LOCATION:20  Jay St.\, 20 Jay St Suite 218\, Brooklyn\, 11201
CATEGORIES:Art Class
ATTACH;FMTTYPE=image/png:https://dumbo.nyc/wp-content/uploads/2026/02/Flyer4.png
END:VEVENT
BEGIN:VEVENT
DTSTART;TZID=America/New_York:20260602T170000
DTEND;TZID=America/New_York:20260602T190000
DTSTAMP:20260424T080253
CREATED:20260224T193133Z
LAST-MODIFIED:20260224T193133Z
UID:10006112-1780419600-1780426800@dumbo.nyc
SUMMARY:Studio Sessions with CAM
DESCRIPTION:Join us for a creative evening in the studio as we paint\, sip wine\, and explore colorful symbolic animals. \nWhether you’re looking for a date night idea\, a community gathering\, or simple something new to try\, this session is a fun and inspiring way to experience art in a relaxed and welcoming space.
URL:https://dumbo.nyc/event/studio-sessions-with-cam-2/2026-06-02/
LOCATION:20  Jay St.\, 20 Jay St Suite 218\, Brooklyn\, 11201
CATEGORIES:Art Class
ATTACH;FMTTYPE=image/png:https://dumbo.nyc/wp-content/uploads/2026/02/Flyer4.png
END:VEVENT
BEGIN:VEVENT
DTSTART;TZID=America/New_York:20260606T170000
DTEND;TZID=America/New_York:20260606T190000
DTSTAMP:20260424T080253
CREATED:20260224T193133Z
LAST-MODIFIED:20260224T193133Z
UID:10006113-1780765200-1780772400@dumbo.nyc
SUMMARY:Studio Sessions with CAM
DESCRIPTION:Join us for a creative evening in the studio as we paint\, sip wine\, and explore colorful symbolic animals. \nWhether you’re looking for a date night idea\, a community gathering\, or simple something new to try\, this session is a fun and inspiring way to experience art in a relaxed and welcoming space.
URL:https://dumbo.nyc/event/studio-sessions-with-cam-2/2026-06-06/
LOCATION:20  Jay St.\, 20 Jay St Suite 218\, Brooklyn\, 11201
CATEGORIES:Art Class
ATTACH;FMTTYPE=image/png:https://dumbo.nyc/wp-content/uploads/2026/02/Flyer4.png
END:VEVENT
BEGIN:VEVENT
DTSTART;TZID=America/New_York:20260607T170000
DTEND;TZID=America/New_York:20260607T190000
DTSTAMP:20260424T080253
CREATED:20260224T193133Z
LAST-MODIFIED:20260224T193133Z
UID:10006114-1780851600-1780858800@dumbo.nyc
SUMMARY:Studio Sessions with CAM
DESCRIPTION:Join us for a creative evening in the studio as we paint\, sip wine\, and explore colorful symbolic animals. \nWhether you’re looking for a date night idea\, a community gathering\, or simple something new to try\, this session is a fun and inspiring way to experience art in a relaxed and welcoming space.
URL:https://dumbo.nyc/event/studio-sessions-with-cam-2/2026-06-07/
LOCATION:20  Jay St.\, 20 Jay St Suite 218\, Brooklyn\, 11201
CATEGORIES:Art Class
ATTACH;FMTTYPE=image/png:https://dumbo.nyc/wp-content/uploads/2026/02/Flyer4.png
END:VEVENT
BEGIN:VEVENT
DTSTART;TZID=America/New_York:20260609T170000
DTEND;TZID=America/New_York:20260609T190000
DTSTAMP:20260424T080253
CREATED:20260224T193133Z
LAST-MODIFIED:20260224T193133Z
UID:10006115-1781024400-1781031600@dumbo.nyc
SUMMARY:Studio Sessions with CAM
DESCRIPTION:Join us for a creative evening in the studio as we paint\, sip wine\, and explore colorful symbolic animals. \nWhether you’re looking for a date night idea\, a community gathering\, or simple something new to try\, this session is a fun and inspiring way to experience art in a relaxed and welcoming space.
URL:https://dumbo.nyc/event/studio-sessions-with-cam-2/2026-06-09/
LOCATION:20  Jay St.\, 20 Jay St Suite 218\, Brooklyn\, 11201
CATEGORIES:Art Class
ATTACH;FMTTYPE=image/png:https://dumbo.nyc/wp-content/uploads/2026/02/Flyer4.png
END:VEVENT
BEGIN:VEVENT
DTSTART;TZID=America/New_York:20260613T170000
DTEND;TZID=America/New_York:20260613T190000
DTSTAMP:20260424T080253
CREATED:20260224T193133Z
LAST-MODIFIED:20260224T193133Z
UID:10006116-1781370000-1781377200@dumbo.nyc
SUMMARY:Studio Sessions with CAM
DESCRIPTION:Join us for a creative evening in the studio as we paint\, sip wine\, and explore colorful symbolic animals. \nWhether you’re looking for a date night idea\, a community gathering\, or simple something new to try\, this session is a fun and inspiring way to experience art in a relaxed and welcoming space.
URL:https://dumbo.nyc/event/studio-sessions-with-cam-2/2026-06-13/
LOCATION:20  Jay St.\, 20 Jay St Suite 218\, Brooklyn\, 11201
CATEGORIES:Art Class
ATTACH;FMTTYPE=image/png:https://dumbo.nyc/wp-content/uploads/2026/02/Flyer4.png
END:VEVENT
BEGIN:VEVENT
DTSTART;TZID=America/New_York:20260614T170000
DTEND;TZID=America/New_York:20260614T190000
DTSTAMP:20260424T080253
CREATED:20260224T193133Z
LAST-MODIFIED:20260224T193133Z
UID:10006117-1781456400-1781463600@dumbo.nyc
SUMMARY:Studio Sessions with CAM
DESCRIPTION:Join us for a creative evening in the studio as we paint\, sip wine\, and explore colorful symbolic animals. \nWhether you’re looking for a date night idea\, a community gathering\, or simple something new to try\, this session is a fun and inspiring way to experience art in a relaxed and welcoming space.
URL:https://dumbo.nyc/event/studio-sessions-with-cam-2/2026-06-14/
LOCATION:20  Jay St.\, 20 Jay St Suite 218\, Brooklyn\, 11201
CATEGORIES:Art Class
ATTACH;FMTTYPE=image/png:https://dumbo.nyc/wp-content/uploads/2026/02/Flyer4.png
END:VEVENT
BEGIN:VEVENT
DTSTART;TZID=America/New_York:20260616T170000
DTEND;TZID=America/New_York:20260616T190000
DTSTAMP:20260424T080253
CREATED:20260224T193133Z
LAST-MODIFIED:20260224T193133Z
UID:10006118-1781629200-1781636400@dumbo.nyc
SUMMARY:Studio Sessions with CAM
DESCRIPTION:Join us for a creative evening in the studio as we paint\, sip wine\, and explore colorful symbolic animals. \nWhether you’re looking for a date night idea\, a community gathering\, or simple something new to try\, this session is a fun and inspiring way to experience art in a relaxed and welcoming space.
URL:https://dumbo.nyc/event/studio-sessions-with-cam-2/2026-06-16/
LOCATION:20  Jay St.\, 20 Jay St Suite 218\, Brooklyn\, 11201
CATEGORIES:Art Class
ATTACH;FMTTYPE=image/png:https://dumbo.nyc/wp-content/uploads/2026/02/Flyer4.png
END:VEVENT
BEGIN:VEVENT
DTSTART;TZID=America/New_York:20260620T170000
DTEND;TZID=America/New_York:20260620T190000
DTSTAMP:20260424T080253
CREATED:20260224T193133Z
LAST-MODIFIED:20260224T193133Z
UID:10006119-1781974800-1781982000@dumbo.nyc
SUMMARY:Studio Sessions with CAM
DESCRIPTION:Join us for a creative evening in the studio as we paint\, sip wine\, and explore colorful symbolic animals. \nWhether you’re looking for a date night idea\, a community gathering\, or simple something new to try\, this session is a fun and inspiring way to experience art in a relaxed and welcoming space.
URL:https://dumbo.nyc/event/studio-sessions-with-cam-2/2026-06-20/
LOCATION:20  Jay St.\, 20 Jay St Suite 218\, Brooklyn\, 11201
CATEGORIES:Art Class
ATTACH;FMTTYPE=image/png:https://dumbo.nyc/wp-content/uploads/2026/02/Flyer4.png
END:VEVENT
BEGIN:VEVENT
DTSTART;TZID=America/New_York:20260621T170000
DTEND;TZID=America/New_York:20260621T190000
DTSTAMP:20260424T080253
CREATED:20260224T193133Z
LAST-MODIFIED:20260224T193133Z
UID:10006120-1782061200-1782068400@dumbo.nyc
SUMMARY:Studio Sessions with CAM
DESCRIPTION:Join us for a creative evening in the studio as we paint\, sip wine\, and explore colorful symbolic animals. \nWhether you’re looking for a date night idea\, a community gathering\, or simple something new to try\, this session is a fun and inspiring way to experience art in a relaxed and welcoming space.
URL:https://dumbo.nyc/event/studio-sessions-with-cam-2/2026-06-21/
LOCATION:20  Jay St.\, 20 Jay St Suite 218\, Brooklyn\, 11201
CATEGORIES:Art Class
ATTACH;FMTTYPE=image/png:https://dumbo.nyc/wp-content/uploads/2026/02/Flyer4.png
END:VEVENT
BEGIN:VEVENT
DTSTART;TZID=America/New_York:20260623T170000
DTEND;TZID=America/New_York:20260623T190000
DTSTAMP:20260424T080253
CREATED:20260224T193133Z
LAST-MODIFIED:20260224T193133Z
UID:10006121-1782234000-1782241200@dumbo.nyc
SUMMARY:Studio Sessions with CAM
DESCRIPTION:Join us for a creative evening in the studio as we paint\, sip wine\, and explore colorful symbolic animals. \nWhether you’re looking for a date night idea\, a community gathering\, or simple something new to try\, this session is a fun and inspiring way to experience art in a relaxed and welcoming space.
URL:https://dumbo.nyc/event/studio-sessions-with-cam-2/2026-06-23/
LOCATION:20  Jay St.\, 20 Jay St Suite 218\, Brooklyn\, 11201
CATEGORIES:Art Class
ATTACH;FMTTYPE=image/png:https://dumbo.nyc/wp-content/uploads/2026/02/Flyer4.png
END:VEVENT
BEGIN:VEVENT
DTSTART;TZID=America/New_York:20260627T170000
DTEND;TZID=America/New_York:20260627T190000
DTSTAMP:20260424T080253
CREATED:20260224T193133Z
LAST-MODIFIED:20260224T193133Z
UID:10006122-1782579600-1782586800@dumbo.nyc
SUMMARY:Studio Sessions with CAM
DESCRIPTION:Join us for a creative evening in the studio as we paint\, sip wine\, and explore colorful symbolic animals. \nWhether you’re looking for a date night idea\, a community gathering\, or simple something new to try\, this session is a fun and inspiring way to experience art in a relaxed and welcoming space.
URL:https://dumbo.nyc/event/studio-sessions-with-cam-2/2026-06-27/
LOCATION:20  Jay St.\, 20 Jay St Suite 218\, Brooklyn\, 11201
CATEGORIES:Art Class
ATTACH;FMTTYPE=image/png:https://dumbo.nyc/wp-content/uploads/2026/02/Flyer4.png
END:VEVENT
BEGIN:VEVENT
DTSTART;TZID=America/New_York:20260628T170000
DTEND;TZID=America/New_York:20260628T190000
DTSTAMP:20260424T080253
CREATED:20260224T193133Z
LAST-MODIFIED:20260224T193133Z
UID:10006123-1782666000-1782673200@dumbo.nyc
SUMMARY:Studio Sessions with CAM
DESCRIPTION:Join us for a creative evening in the studio as we paint\, sip wine\, and explore colorful symbolic animals. \nWhether you’re looking for a date night idea\, a community gathering\, or simple something new to try\, this session is a fun and inspiring way to experience art in a relaxed and welcoming space.
URL:https://dumbo.nyc/event/studio-sessions-with-cam-2/2026-06-28/
LOCATION:20  Jay St.\, 20 Jay St Suite 218\, Brooklyn\, 11201
CATEGORIES:Art Class
ATTACH;FMTTYPE=image/png:https://dumbo.nyc/wp-content/uploads/2026/02/Flyer4.png
END:VEVENT
BEGIN:VEVENT
DTSTART;TZID=America/New_York:20260630T170000
DTEND;TZID=America/New_York:20260630T190000
DTSTAMP:20260424T080253
CREATED:20260224T193133Z
LAST-MODIFIED:20260224T193133Z
UID:10006124-1782838800-1782846000@dumbo.nyc
SUMMARY:Studio Sessions with CAM
DESCRIPTION:Join us for a creative evening in the studio as we paint\, sip wine\, and explore colorful symbolic animals. \nWhether you’re looking for a date night idea\, a community gathering\, or simple something new to try\, this session is a fun and inspiring way to experience art in a relaxed and welcoming space.
URL:https://dumbo.nyc/event/studio-sessions-with-cam-2/2026-06-30/
LOCATION:20  Jay St.\, 20 Jay St Suite 218\, Brooklyn\, 11201
CATEGORIES:Art Class
ATTACH;FMTTYPE=image/png:https://dumbo.nyc/wp-content/uploads/2026/02/Flyer4.png
END:VEVENT
END:VCALENDAR