BEGIN:VCALENDAR
VERSION:2.0
PRODID:-//Dumbo, Brooklyn - ECPv6.13.2.1//NONSGML v1.0//EN
CALSCALE:GREGORIAN
METHOD:PUBLISH
X-ORIGINAL-URL:https://dumbo.nyc
X-WR-CALDESC:Events for Dumbo, Brooklyn
REFRESH-INTERVAL;VALUE=DURATION:PT1H
X-Robots-Tag:noindex
X-PUBLISHED-TTL:PT1H
BEGIN:VTIMEZONE
TZID:America/New_York
BEGIN:DAYLIGHT
TZOFFSETFROM:-0500
TZOFFSETTO:-0400
TZNAME:EDT
DTSTART:20260308T070000
END:DAYLIGHT
BEGIN:STANDARD
TZOFFSETFROM:-0400
TZOFFSETTO:-0500
TZNAME:EST
DTSTART:20261101T060000
END:STANDARD
END:VTIMEZONE
BEGIN:VEVENT
DTSTART;TZID=America/New_York:20260430T163000
DTEND;TZID=America/New_York:20260430T173000
DTSTAMP:20260424T050756
CREATED:20260421T164519Z
LAST-MODIFIED:20260421T164519Z
UID:10007562-1777566600-1777570200@dumbo.nyc
SUMMARY:Tween and Teen Create Space
DESCRIPTION:Tweens and teens can visit the Adams Street Library Teen Space to take a break and get creative with our art and writing materials. \nGrades 4-12. No registration required.
URL:https://dumbo.nyc/event/tween-and-teen-create-space/2026-04-30/
LOCATION:Adams Street Library\, 9 Adams Street\, Brooklyn\, 11201\, United States
CATEGORIES:Kids
ATTACH;FMTTYPE=image/jpeg:https://dumbo.nyc/wp-content/uploads/2026/04/Create-Space-Adams-Street-Library.jpg
END:VEVENT
BEGIN:VEVENT
DTSTART;TZID=America/New_York:20260507T163000
DTEND;TZID=America/New_York:20260507T173000
DTSTAMP:20260424T050756
CREATED:20260421T164519Z
LAST-MODIFIED:20260421T164519Z
UID:10007563-1778171400-1778175000@dumbo.nyc
SUMMARY:Tween and Teen Create Space
DESCRIPTION:Tweens and teens can visit the Adams Street Library Teen Space to take a break and get creative with our art and writing materials. \nGrades 4-12. No registration required.
URL:https://dumbo.nyc/event/tween-and-teen-create-space/2026-05-07/
LOCATION:Adams Street Library\, 9 Adams Street\, Brooklyn\, 11201\, United States
CATEGORIES:Kids
ATTACH;FMTTYPE=image/jpeg:https://dumbo.nyc/wp-content/uploads/2026/04/Create-Space-Adams-Street-Library.jpg
END:VEVENT
BEGIN:VEVENT
DTSTART;TZID=America/New_York:20260514T163000
DTEND;TZID=America/New_York:20260514T173000
DTSTAMP:20260424T050756
CREATED:20260421T164519Z
LAST-MODIFIED:20260421T164519Z
UID:10007564-1778776200-1778779800@dumbo.nyc
SUMMARY:Tween and Teen Create Space
DESCRIPTION:Tweens and teens can visit the Adams Street Library Teen Space to take a break and get creative with our art and writing materials. \nGrades 4-12. No registration required.
URL:https://dumbo.nyc/event/tween-and-teen-create-space/2026-05-14/
LOCATION:Adams Street Library\, 9 Adams Street\, Brooklyn\, 11201\, United States
CATEGORIES:Kids
ATTACH;FMTTYPE=image/jpeg:https://dumbo.nyc/wp-content/uploads/2026/04/Create-Space-Adams-Street-Library.jpg
END:VEVENT
BEGIN:VEVENT
DTSTART;TZID=America/New_York:20260528T163000
DTEND;TZID=America/New_York:20260528T173000
DTSTAMP:20260424T050756
CREATED:20260421T164519Z
LAST-MODIFIED:20260421T164519Z
UID:10007565-1779985800-1779989400@dumbo.nyc
SUMMARY:Tween and Teen Create Space
DESCRIPTION:Tweens and teens can visit the Adams Street Library Teen Space to take a break and get creative with our art and writing materials. \nGrades 4-12. No registration required.
URL:https://dumbo.nyc/event/tween-and-teen-create-space/2026-05-28/
LOCATION:Adams Street Library\, 9 Adams Street\, Brooklyn\, 11201\, United States
CATEGORIES:Kids
ATTACH;FMTTYPE=image/jpeg:https://dumbo.nyc/wp-content/uploads/2026/04/Create-Space-Adams-Street-Library.jpg
END:VEVENT
BEGIN:VEVENT
DTSTART;TZID=America/New_York:20260604T163000
DTEND;TZID=America/New_York:20260604T173000
DTSTAMP:20260424T050756
CREATED:20260421T164519Z
LAST-MODIFIED:20260421T164519Z
UID:10007566-1780590600-1780594200@dumbo.nyc
SUMMARY:Tween and Teen Create Space
DESCRIPTION:Tweens and teens can visit the Adams Street Library Teen Space to take a break and get creative with our art and writing materials. \nGrades 4-12. No registration required.
URL:https://dumbo.nyc/event/tween-and-teen-create-space/2026-06-04/
LOCATION:Adams Street Library\, 9 Adams Street\, Brooklyn\, 11201\, United States
CATEGORIES:Kids
ATTACH;FMTTYPE=image/jpeg:https://dumbo.nyc/wp-content/uploads/2026/04/Create-Space-Adams-Street-Library.jpg
END:VEVENT
BEGIN:VEVENT
DTSTART;TZID=America/New_York:20260611T163000
DTEND;TZID=America/New_York:20260611T173000
DTSTAMP:20260424T050756
CREATED:20260421T164519Z
LAST-MODIFIED:20260421T164519Z
UID:10007567-1781195400-1781199000@dumbo.nyc
SUMMARY:Tween and Teen Create Space
DESCRIPTION:Tweens and teens can visit the Adams Street Library Teen Space to take a break and get creative with our art and writing materials. \nGrades 4-12. No registration required.
URL:https://dumbo.nyc/event/tween-and-teen-create-space/2026-06-11/
LOCATION:Adams Street Library\, 9 Adams Street\, Brooklyn\, 11201\, United States
CATEGORIES:Kids
ATTACH;FMTTYPE=image/jpeg:https://dumbo.nyc/wp-content/uploads/2026/04/Create-Space-Adams-Street-Library.jpg
END:VEVENT
BEGIN:VEVENT
DTSTART;TZID=America/New_York:20260618T163000
DTEND;TZID=America/New_York:20260618T173000
DTSTAMP:20260424T050756
CREATED:20260421T164519Z
LAST-MODIFIED:20260421T164519Z
UID:10007568-1781800200-1781803800@dumbo.nyc
SUMMARY:Tween and Teen Create Space
DESCRIPTION:Tweens and teens can visit the Adams Street Library Teen Space to take a break and get creative with our art and writing materials. \nGrades 4-12. No registration required.
URL:https://dumbo.nyc/event/tween-and-teen-create-space/2026-06-18/
LOCATION:Adams Street Library\, 9 Adams Street\, Brooklyn\, 11201\, United States
CATEGORIES:Kids
ATTACH;FMTTYPE=image/jpeg:https://dumbo.nyc/wp-content/uploads/2026/04/Create-Space-Adams-Street-Library.jpg
END:VEVENT
BEGIN:VEVENT
DTSTART;TZID=America/New_York:20260625T163000
DTEND;TZID=America/New_York:20260625T173000
DTSTAMP:20260424T050756
CREATED:20260421T164519Z
LAST-MODIFIED:20260421T164519Z
UID:10007569-1782405000-1782408600@dumbo.nyc
SUMMARY:Tween and Teen Create Space
DESCRIPTION:Tweens and teens can visit the Adams Street Library Teen Space to take a break and get creative with our art and writing materials. \nGrades 4-12. No registration required.
URL:https://dumbo.nyc/event/tween-and-teen-create-space/2026-06-25/
LOCATION:Adams Street Library\, 9 Adams Street\, Brooklyn\, 11201\, United States
CATEGORIES:Kids
ATTACH;FMTTYPE=image/jpeg:https://dumbo.nyc/wp-content/uploads/2026/04/Create-Space-Adams-Street-Library.jpg
END:VEVENT
BEGIN:VEVENT
DTSTART;TZID=America/New_York:20260702T163000
DTEND;TZID=America/New_York:20260702T173000
DTSTAMP:20260424T050756
CREATED:20260421T164519Z
LAST-MODIFIED:20260421T164519Z
UID:10007570-1783009800-1783013400@dumbo.nyc
SUMMARY:Tween and Teen Create Space
DESCRIPTION:Tweens and teens can visit the Adams Street Library Teen Space to take a break and get creative with our art and writing materials. \nGrades 4-12. No registration required.
URL:https://dumbo.nyc/event/tween-and-teen-create-space/2026-07-02/
LOCATION:Adams Street Library\, 9 Adams Street\, Brooklyn\, 11201\, United States
CATEGORIES:Kids
ATTACH;FMTTYPE=image/jpeg:https://dumbo.nyc/wp-content/uploads/2026/04/Create-Space-Adams-Street-Library.jpg
END:VEVENT
BEGIN:VEVENT
DTSTART;TZID=America/New_York:20260709T163000
DTEND;TZID=America/New_York:20260709T173000
DTSTAMP:20260424T050756
CREATED:20260421T164519Z
LAST-MODIFIED:20260421T164519Z
UID:10007571-1783614600-1783618200@dumbo.nyc
SUMMARY:Tween and Teen Create Space
DESCRIPTION:Tweens and teens can visit the Adams Street Library Teen Space to take a break and get creative with our art and writing materials. \nGrades 4-12. No registration required.
URL:https://dumbo.nyc/event/tween-and-teen-create-space/2026-07-09/
LOCATION:Adams Street Library\, 9 Adams Street\, Brooklyn\, 11201\, United States
CATEGORIES:Kids
ATTACH;FMTTYPE=image/jpeg:https://dumbo.nyc/wp-content/uploads/2026/04/Create-Space-Adams-Street-Library.jpg
END:VEVENT
BEGIN:VEVENT
DTSTART;TZID=America/New_York:20260716T163000
DTEND;TZID=America/New_York:20260716T173000
DTSTAMP:20260424T050756
CREATED:20260421T164519Z
LAST-MODIFIED:20260421T164519Z
UID:10007572-1784219400-1784223000@dumbo.nyc
SUMMARY:Tween and Teen Create Space
DESCRIPTION:Tweens and teens can visit the Adams Street Library Teen Space to take a break and get creative with our art and writing materials. \nGrades 4-12. No registration required.
URL:https://dumbo.nyc/event/tween-and-teen-create-space/2026-07-16/
LOCATION:Adams Street Library\, 9 Adams Street\, Brooklyn\, 11201\, United States
CATEGORIES:Kids
ATTACH;FMTTYPE=image/jpeg:https://dumbo.nyc/wp-content/uploads/2026/04/Create-Space-Adams-Street-Library.jpg
END:VEVENT
BEGIN:VEVENT
DTSTART;TZID=America/New_York:20260723T163000
DTEND;TZID=America/New_York:20260723T173000
DTSTAMP:20260424T050756
CREATED:20260421T164519Z
LAST-MODIFIED:20260421T164519Z
UID:10007573-1784824200-1784827800@dumbo.nyc
SUMMARY:Tween and Teen Create Space
DESCRIPTION:Tweens and teens can visit the Adams Street Library Teen Space to take a break and get creative with our art and writing materials. \nGrades 4-12. No registration required.
URL:https://dumbo.nyc/event/tween-and-teen-create-space/2026-07-23/
LOCATION:Adams Street Library\, 9 Adams Street\, Brooklyn\, 11201\, United States
CATEGORIES:Kids
ATTACH;FMTTYPE=image/jpeg:https://dumbo.nyc/wp-content/uploads/2026/04/Create-Space-Adams-Street-Library.jpg
END:VEVENT
BEGIN:VEVENT
DTSTART;TZID=America/New_York:20260730T163000
DTEND;TZID=America/New_York:20260730T173000
DTSTAMP:20260424T050756
CREATED:20260421T164519Z
LAST-MODIFIED:20260421T164519Z
UID:10007574-1785429000-1785432600@dumbo.nyc
SUMMARY:Tween and Teen Create Space
DESCRIPTION:Tweens and teens can visit the Adams Street Library Teen Space to take a break and get creative with our art and writing materials. \nGrades 4-12. No registration required.
URL:https://dumbo.nyc/event/tween-and-teen-create-space/2026-07-30/
LOCATION:Adams Street Library\, 9 Adams Street\, Brooklyn\, 11201\, United States
CATEGORIES:Kids
ATTACH;FMTTYPE=image/jpeg:https://dumbo.nyc/wp-content/uploads/2026/04/Create-Space-Adams-Street-Library.jpg
END:VEVENT
BEGIN:VEVENT
DTSTART;TZID=America/New_York:20260806T163000
DTEND;TZID=America/New_York:20260806T173000
DTSTAMP:20260424T050756
CREATED:20260421T164519Z
LAST-MODIFIED:20260421T164519Z
UID:10007575-1786033800-1786037400@dumbo.nyc
SUMMARY:Tween and Teen Create Space
DESCRIPTION:Tweens and teens can visit the Adams Street Library Teen Space to take a break and get creative with our art and writing materials. \nGrades 4-12. No registration required.
URL:https://dumbo.nyc/event/tween-and-teen-create-space/2026-08-06/
LOCATION:Adams Street Library\, 9 Adams Street\, Brooklyn\, 11201\, United States
CATEGORIES:Kids
ATTACH;FMTTYPE=image/jpeg:https://dumbo.nyc/wp-content/uploads/2026/04/Create-Space-Adams-Street-Library.jpg
END:VEVENT
BEGIN:VEVENT
DTSTART;TZID=America/New_York:20260813T163000
DTEND;TZID=America/New_York:20260813T173000
DTSTAMP:20260424T050756
CREATED:20260421T164519Z
LAST-MODIFIED:20260421T164519Z
UID:10007576-1786638600-1786642200@dumbo.nyc
SUMMARY:Tween and Teen Create Space
DESCRIPTION:Tweens and teens can visit the Adams Street Library Teen Space to take a break and get creative with our art and writing materials. \nGrades 4-12. No registration required.
URL:https://dumbo.nyc/event/tween-and-teen-create-space/2026-08-13/
LOCATION:Adams Street Library\, 9 Adams Street\, Brooklyn\, 11201\, United States
CATEGORIES:Kids
ATTACH;FMTTYPE=image/jpeg:https://dumbo.nyc/wp-content/uploads/2026/04/Create-Space-Adams-Street-Library.jpg
END:VEVENT
BEGIN:VEVENT
DTSTART;TZID=America/New_York:20260820T163000
DTEND;TZID=America/New_York:20260820T173000
DTSTAMP:20260424T050756
CREATED:20260421T164519Z
LAST-MODIFIED:20260421T164519Z
UID:10007577-1787243400-1787247000@dumbo.nyc
SUMMARY:Tween and Teen Create Space
DESCRIPTION:Tweens and teens can visit the Adams Street Library Teen Space to take a break and get creative with our art and writing materials. \nGrades 4-12. No registration required.
URL:https://dumbo.nyc/event/tween-and-teen-create-space/2026-08-20/
LOCATION:Adams Street Library\, 9 Adams Street\, Brooklyn\, 11201\, United States
CATEGORIES:Kids
ATTACH;FMTTYPE=image/jpeg:https://dumbo.nyc/wp-content/uploads/2026/04/Create-Space-Adams-Street-Library.jpg
END:VEVENT
BEGIN:VEVENT
DTSTART;TZID=America/New_York:20260827T163000
DTEND;TZID=America/New_York:20260827T173000
DTSTAMP:20260424T050756
CREATED:20260421T164519Z
LAST-MODIFIED:20260421T164519Z
UID:10007578-1787848200-1787851800@dumbo.nyc
SUMMARY:Tween and Teen Create Space
DESCRIPTION:Tweens and teens can visit the Adams Street Library Teen Space to take a break and get creative with our art and writing materials. \nGrades 4-12. No registration required.
URL:https://dumbo.nyc/event/tween-and-teen-create-space/2026-08-27/
LOCATION:Adams Street Library\, 9 Adams Street\, Brooklyn\, 11201\, United States
CATEGORIES:Kids
ATTACH;FMTTYPE=image/jpeg:https://dumbo.nyc/wp-content/uploads/2026/04/Create-Space-Adams-Street-Library.jpg
END:VEVENT
BEGIN:VEVENT
DTSTART;TZID=America/New_York:20260903T163000
DTEND;TZID=America/New_York:20260903T173000
DTSTAMP:20260424T050756
CREATED:20260421T164519Z
LAST-MODIFIED:20260421T164519Z
UID:10007579-1788453000-1788456600@dumbo.nyc
SUMMARY:Tween and Teen Create Space
DESCRIPTION:Tweens and teens can visit the Adams Street Library Teen Space to take a break and get creative with our art and writing materials. \nGrades 4-12. No registration required.
URL:https://dumbo.nyc/event/tween-and-teen-create-space/2026-09-03/
LOCATION:Adams Street Library\, 9 Adams Street\, Brooklyn\, 11201\, United States
CATEGORIES:Kids
ATTACH;FMTTYPE=image/jpeg:https://dumbo.nyc/wp-content/uploads/2026/04/Create-Space-Adams-Street-Library.jpg
END:VEVENT
BEGIN:VEVENT
DTSTART;TZID=America/New_York:20260910T163000
DTEND;TZID=America/New_York:20260910T173000
DTSTAMP:20260424T050756
CREATED:20260421T164519Z
LAST-MODIFIED:20260421T164519Z
UID:10007580-1789057800-1789061400@dumbo.nyc
SUMMARY:Tween and Teen Create Space
DESCRIPTION:Tweens and teens can visit the Adams Street Library Teen Space to take a break and get creative with our art and writing materials. \nGrades 4-12. No registration required.
URL:https://dumbo.nyc/event/tween-and-teen-create-space/2026-09-10/
LOCATION:Adams Street Library\, 9 Adams Street\, Brooklyn\, 11201\, United States
CATEGORIES:Kids
ATTACH;FMTTYPE=image/jpeg:https://dumbo.nyc/wp-content/uploads/2026/04/Create-Space-Adams-Street-Library.jpg
END:VEVENT
BEGIN:VEVENT
DTSTART;TZID=America/New_York:20260917T163000
DTEND;TZID=America/New_York:20260917T173000
DTSTAMP:20260424T050756
CREATED:20260421T164519Z
LAST-MODIFIED:20260421T164519Z
UID:10007581-1789662600-1789666200@dumbo.nyc
SUMMARY:Tween and Teen Create Space
DESCRIPTION:Tweens and teens can visit the Adams Street Library Teen Space to take a break and get creative with our art and writing materials. \nGrades 4-12. No registration required.
URL:https://dumbo.nyc/event/tween-and-teen-create-space/2026-09-17/
LOCATION:Adams Street Library\, 9 Adams Street\, Brooklyn\, 11201\, United States
CATEGORIES:Kids
ATTACH;FMTTYPE=image/jpeg:https://dumbo.nyc/wp-content/uploads/2026/04/Create-Space-Adams-Street-Library.jpg
END:VEVENT
BEGIN:VEVENT
DTSTART;TZID=America/New_York:20260924T163000
DTEND;TZID=America/New_York:20260924T173000
DTSTAMP:20260424T050756
CREATED:20260421T164519Z
LAST-MODIFIED:20260421T164519Z
UID:10007582-1790267400-1790271000@dumbo.nyc
SUMMARY:Tween and Teen Create Space
DESCRIPTION:Tweens and teens can visit the Adams Street Library Teen Space to take a break and get creative with our art and writing materials. \nGrades 4-12. No registration required.
URL:https://dumbo.nyc/event/tween-and-teen-create-space/2026-09-24/
LOCATION:Adams Street Library\, 9 Adams Street\, Brooklyn\, 11201\, United States
CATEGORIES:Kids
ATTACH;FMTTYPE=image/jpeg:https://dumbo.nyc/wp-content/uploads/2026/04/Create-Space-Adams-Street-Library.jpg
END:VEVENT
BEGIN:VEVENT
DTSTART;TZID=America/New_York:20261001T163000
DTEND;TZID=America/New_York:20261001T173000
DTSTAMP:20260424T050756
CREATED:20260421T164519Z
LAST-MODIFIED:20260421T164519Z
UID:10007583-1790872200-1790875800@dumbo.nyc
SUMMARY:Tween and Teen Create Space
DESCRIPTION:Tweens and teens can visit the Adams Street Library Teen Space to take a break and get creative with our art and writing materials. \nGrades 4-12. No registration required.
URL:https://dumbo.nyc/event/tween-and-teen-create-space/2026-10-01/
LOCATION:Adams Street Library\, 9 Adams Street\, Brooklyn\, 11201\, United States
CATEGORIES:Kids
ATTACH;FMTTYPE=image/jpeg:https://dumbo.nyc/wp-content/uploads/2026/04/Create-Space-Adams-Street-Library.jpg
END:VEVENT
BEGIN:VEVENT
DTSTART;TZID=America/New_York:20261008T163000
DTEND;TZID=America/New_York:20261008T173000
DTSTAMP:20260424T050756
CREATED:20260421T164519Z
LAST-MODIFIED:20260421T164519Z
UID:10007584-1791477000-1791480600@dumbo.nyc
SUMMARY:Tween and Teen Create Space
DESCRIPTION:Tweens and teens can visit the Adams Street Library Teen Space to take a break and get creative with our art and writing materials. \nGrades 4-12. No registration required.
URL:https://dumbo.nyc/event/tween-and-teen-create-space/2026-10-08/
LOCATION:Adams Street Library\, 9 Adams Street\, Brooklyn\, 11201\, United States
CATEGORIES:Kids
ATTACH;FMTTYPE=image/jpeg:https://dumbo.nyc/wp-content/uploads/2026/04/Create-Space-Adams-Street-Library.jpg
END:VEVENT
BEGIN:VEVENT
DTSTART;TZID=America/New_York:20261015T163000
DTEND;TZID=America/New_York:20261015T173000
DTSTAMP:20260424T050756
CREATED:20260421T164519Z
LAST-MODIFIED:20260421T164519Z
UID:10007585-1792081800-1792085400@dumbo.nyc
SUMMARY:Tween and Teen Create Space
DESCRIPTION:Tweens and teens can visit the Adams Street Library Teen Space to take a break and get creative with our art and writing materials. \nGrades 4-12. No registration required.
URL:https://dumbo.nyc/event/tween-and-teen-create-space/2026-10-15/
LOCATION:Adams Street Library\, 9 Adams Street\, Brooklyn\, 11201\, United States
CATEGORIES:Kids
ATTACH;FMTTYPE=image/jpeg:https://dumbo.nyc/wp-content/uploads/2026/04/Create-Space-Adams-Street-Library.jpg
END:VEVENT
BEGIN:VEVENT
DTSTART;TZID=America/New_York:20261022T163000
DTEND;TZID=America/New_York:20261022T173000
DTSTAMP:20260424T050756
CREATED:20260421T164519Z
LAST-MODIFIED:20260421T164519Z
UID:10007586-1792686600-1792690200@dumbo.nyc
SUMMARY:Tween and Teen Create Space
DESCRIPTION:Tweens and teens can visit the Adams Street Library Teen Space to take a break and get creative with our art and writing materials. \nGrades 4-12. No registration required.
URL:https://dumbo.nyc/event/tween-and-teen-create-space/2026-10-22/
LOCATION:Adams Street Library\, 9 Adams Street\, Brooklyn\, 11201\, United States
CATEGORIES:Kids
ATTACH;FMTTYPE=image/jpeg:https://dumbo.nyc/wp-content/uploads/2026/04/Create-Space-Adams-Street-Library.jpg
END:VEVENT
BEGIN:VEVENT
DTSTART;TZID=America/New_York:20261029T163000
DTEND;TZID=America/New_York:20261029T173000
DTSTAMP:20260424T050756
CREATED:20260421T164519Z
LAST-MODIFIED:20260421T164519Z
UID:10007587-1793291400-1793295000@dumbo.nyc
SUMMARY:Tween and Teen Create Space
DESCRIPTION:Tweens and teens can visit the Adams Street Library Teen Space to take a break and get creative with our art and writing materials. \nGrades 4-12. No registration required.
URL:https://dumbo.nyc/event/tween-and-teen-create-space/2026-10-29/
LOCATION:Adams Street Library\, 9 Adams Street\, Brooklyn\, 11201\, United States
CATEGORIES:Kids
ATTACH;FMTTYPE=image/jpeg:https://dumbo.nyc/wp-content/uploads/2026/04/Create-Space-Adams-Street-Library.jpg
END:VEVENT
BEGIN:VEVENT
DTSTART;TZID=America/New_York:20261105T163000
DTEND;TZID=America/New_York:20261105T173000
DTSTAMP:20260424T050756
CREATED:20260421T164519Z
LAST-MODIFIED:20260421T164519Z
UID:10007588-1793896200-1793899800@dumbo.nyc
SUMMARY:Tween and Teen Create Space
DESCRIPTION:Tweens and teens can visit the Adams Street Library Teen Space to take a break and get creative with our art and writing materials. \nGrades 4-12. No registration required.
URL:https://dumbo.nyc/event/tween-and-teen-create-space/2026-11-05/
LOCATION:Adams Street Library\, 9 Adams Street\, Brooklyn\, 11201\, United States
CATEGORIES:Kids
ATTACH;FMTTYPE=image/jpeg:https://dumbo.nyc/wp-content/uploads/2026/04/Create-Space-Adams-Street-Library.jpg
END:VEVENT
BEGIN:VEVENT
DTSTART;TZID=America/New_York:20261112T163000
DTEND;TZID=America/New_York:20261112T173000
DTSTAMP:20260424T050756
CREATED:20260421T164519Z
LAST-MODIFIED:20260421T164519Z
UID:10007589-1794501000-1794504600@dumbo.nyc
SUMMARY:Tween and Teen Create Space
DESCRIPTION:Tweens and teens can visit the Adams Street Library Teen Space to take a break and get creative with our art and writing materials. \nGrades 4-12. No registration required.
URL:https://dumbo.nyc/event/tween-and-teen-create-space/2026-11-12/
LOCATION:Adams Street Library\, 9 Adams Street\, Brooklyn\, 11201\, United States
CATEGORIES:Kids
ATTACH;FMTTYPE=image/jpeg:https://dumbo.nyc/wp-content/uploads/2026/04/Create-Space-Adams-Street-Library.jpg
END:VEVENT
BEGIN:VEVENT
DTSTART;TZID=America/New_York:20261119T163000
DTEND;TZID=America/New_York:20261119T173000
DTSTAMP:20260424T050756
CREATED:20260421T164519Z
LAST-MODIFIED:20260421T164519Z
UID:10007590-1795105800-1795109400@dumbo.nyc
SUMMARY:Tween and Teen Create Space
DESCRIPTION:Tweens and teens can visit the Adams Street Library Teen Space to take a break and get creative with our art and writing materials. \nGrades 4-12. No registration required.
URL:https://dumbo.nyc/event/tween-and-teen-create-space/2026-11-19/
LOCATION:Adams Street Library\, 9 Adams Street\, Brooklyn\, 11201\, United States
CATEGORIES:Kids
ATTACH;FMTTYPE=image/jpeg:https://dumbo.nyc/wp-content/uploads/2026/04/Create-Space-Adams-Street-Library.jpg
END:VEVENT
BEGIN:VEVENT
DTSTART;TZID=America/New_York:20261126T163000
DTEND;TZID=America/New_York:20261126T173000
DTSTAMP:20260424T050756
CREATED:20260421T164519Z
LAST-MODIFIED:20260421T164519Z
UID:10007591-1795710600-1795714200@dumbo.nyc
SUMMARY:Tween and Teen Create Space
DESCRIPTION:Tweens and teens can visit the Adams Street Library Teen Space to take a break and get creative with our art and writing materials. \nGrades 4-12. No registration required.
URL:https://dumbo.nyc/event/tween-and-teen-create-space/2026-11-26/
LOCATION:Adams Street Library\, 9 Adams Street\, Brooklyn\, 11201\, United States
CATEGORIES:Kids
ATTACH;FMTTYPE=image/jpeg:https://dumbo.nyc/wp-content/uploads/2026/04/Create-Space-Adams-Street-Library.jpg
END:VEVENT
END:VCALENDAR