BEGIN:VCALENDAR
VERSION:2.0
PRODID:-//Dumbo, Brooklyn - ECPv6.13.2.1//NONSGML v1.0//EN
CALSCALE:GREGORIAN
METHOD:PUBLISH
X-ORIGINAL-URL:https://dumbo.nyc
X-WR-CALDESC:Events for Dumbo, Brooklyn
REFRESH-INTERVAL;VALUE=DURATION:PT1H
X-Robots-Tag:noindex
X-PUBLISHED-TTL:PT1H
BEGIN:VTIMEZONE
TZID:America/New_York
BEGIN:DAYLIGHT
TZOFFSETFROM:-0500
TZOFFSETTO:-0400
TZNAME:EDT
DTSTART:20260308T070000
END:DAYLIGHT
BEGIN:STANDARD
TZOFFSETFROM:-0400
TZOFFSETTO:-0500
TZNAME:EST
DTSTART:20261101T060000
END:STANDARD
END:VTIMEZONE
BEGIN:VEVENT
DTSTART;TZID=America/New_York:20260428T180000
DTEND;TZID=America/New_York:20260428T193000
DTSTAMP:20260425T105302
CREATED:20260423T143612Z
LAST-MODIFIED:20260423T143612Z
UID:10007686-1777399200-1777404600@dumbo.nyc
SUMMARY:Craft Circle
DESCRIPTION:Tired of crafting alone? Macra-make your way to the Adams Street Craft Circle! Cast on a new project or bring your work-in-progress to: \n-Meet fellow crafters;\n-Exchange ideas; and\n-Enjoy the practice of making with others. \nWhether you knit\, crochet\, embroider\, etc. all crafts and skill levels are welcome. Ages 16+
URL:https://dumbo.nyc/event/craft-circle/2026-04-28/
LOCATION:Adams Street Library\, 9 Adams Street\, Brooklyn\, 11201\, United States
CATEGORIES:Art Class
ATTACH;FMTTYPE=image/jpeg:https://dumbo.nyc/wp-content/uploads/2026/04/Craft-Circle-Adams-street-Library.jpg
END:VEVENT
BEGIN:VEVENT
DTSTART;TZID=America/New_York:20260505T180000
DTEND;TZID=America/New_York:20260505T193000
DTSTAMP:20260425T105303
CREATED:20260423T143612Z
LAST-MODIFIED:20260423T143612Z
UID:10007687-1778004000-1778009400@dumbo.nyc
SUMMARY:Craft Circle
DESCRIPTION:Tired of crafting alone? Macra-make your way to the Adams Street Craft Circle! Cast on a new project or bring your work-in-progress to: \n-Meet fellow crafters;\n-Exchange ideas; and\n-Enjoy the practice of making with others. \nWhether you knit\, crochet\, embroider\, etc. all crafts and skill levels are welcome. Ages 16+
URL:https://dumbo.nyc/event/craft-circle/2026-05-05/
LOCATION:Adams Street Library\, 9 Adams Street\, Brooklyn\, 11201\, United States
CATEGORIES:Art Class
ATTACH;FMTTYPE=image/jpeg:https://dumbo.nyc/wp-content/uploads/2026/04/Craft-Circle-Adams-street-Library.jpg
END:VEVENT
BEGIN:VEVENT
DTSTART;TZID=America/New_York:20260512T180000
DTEND;TZID=America/New_York:20260512T193000
DTSTAMP:20260425T105303
CREATED:20260423T143612Z
LAST-MODIFIED:20260423T143612Z
UID:10007688-1778608800-1778614200@dumbo.nyc
SUMMARY:Craft Circle
DESCRIPTION:Tired of crafting alone? Macra-make your way to the Adams Street Craft Circle! Cast on a new project or bring your work-in-progress to: \n-Meet fellow crafters;\n-Exchange ideas; and\n-Enjoy the practice of making with others. \nWhether you knit\, crochet\, embroider\, etc. all crafts and skill levels are welcome. Ages 16+
URL:https://dumbo.nyc/event/craft-circle/2026-05-12/
LOCATION:Adams Street Library\, 9 Adams Street\, Brooklyn\, 11201\, United States
CATEGORIES:Art Class
ATTACH;FMTTYPE=image/jpeg:https://dumbo.nyc/wp-content/uploads/2026/04/Craft-Circle-Adams-street-Library.jpg
END:VEVENT
BEGIN:VEVENT
DTSTART;TZID=America/New_York:20260519T180000
DTEND;TZID=America/New_York:20260519T193000
DTSTAMP:20260425T105303
CREATED:20260423T143612Z
LAST-MODIFIED:20260423T143612Z
UID:10007689-1779213600-1779219000@dumbo.nyc
SUMMARY:Craft Circle
DESCRIPTION:Tired of crafting alone? Macra-make your way to the Adams Street Craft Circle! Cast on a new project or bring your work-in-progress to: \n-Meet fellow crafters;\n-Exchange ideas; and\n-Enjoy the practice of making with others. \nWhether you knit\, crochet\, embroider\, etc. all crafts and skill levels are welcome. Ages 16+
URL:https://dumbo.nyc/event/craft-circle/2026-05-19/
LOCATION:Adams Street Library\, 9 Adams Street\, Brooklyn\, 11201\, United States
CATEGORIES:Art Class
ATTACH;FMTTYPE=image/jpeg:https://dumbo.nyc/wp-content/uploads/2026/04/Craft-Circle-Adams-street-Library.jpg
END:VEVENT
BEGIN:VEVENT
DTSTART;TZID=America/New_York:20260526T180000
DTEND;TZID=America/New_York:20260526T193000
DTSTAMP:20260425T105303
CREATED:20260423T143612Z
LAST-MODIFIED:20260423T143612Z
UID:10007690-1779818400-1779823800@dumbo.nyc
SUMMARY:Craft Circle
DESCRIPTION:Tired of crafting alone? Macra-make your way to the Adams Street Craft Circle! Cast on a new project or bring your work-in-progress to: \n-Meet fellow crafters;\n-Exchange ideas; and\n-Enjoy the practice of making with others. \nWhether you knit\, crochet\, embroider\, etc. all crafts and skill levels are welcome. Ages 16+
URL:https://dumbo.nyc/event/craft-circle/2026-05-26/
LOCATION:Adams Street Library\, 9 Adams Street\, Brooklyn\, 11201\, United States
CATEGORIES:Art Class
ATTACH;FMTTYPE=image/jpeg:https://dumbo.nyc/wp-content/uploads/2026/04/Craft-Circle-Adams-street-Library.jpg
END:VEVENT
END:VCALENDAR