BEGIN:VCALENDAR
VERSION:2.0
PRODID:-//Dumbo, Brooklyn - ECPv6.13.2.1//NONSGML v1.0//EN
CALSCALE:GREGORIAN
METHOD:PUBLISH
X-ORIGINAL-URL:https://dumbo.nyc
X-WR-CALDESC:Events for Dumbo, Brooklyn
REFRESH-INTERVAL;VALUE=DURATION:PT1H
X-Robots-Tag:noindex
X-PUBLISHED-TTL:PT1H
BEGIN:VTIMEZONE
TZID:America/New_York
BEGIN:DAYLIGHT
TZOFFSETFROM:-0500
TZOFFSETTO:-0400
TZNAME:EDT
DTSTART:20260308T070000
END:DAYLIGHT
BEGIN:STANDARD
TZOFFSETFROM:-0400
TZOFFSETTO:-0500
TZNAME:EST
DTSTART:20261101T060000
END:STANDARD
END:VTIMEZONE
BEGIN:VEVENT
DTSTART;TZID=America/New_York:20260613T110000
DTEND;TZID=America/New_York:20260613T180000
DTSTAMP:20260424T125642
CREATED:20260423T144048Z
LAST-MODIFIED:20260423T144107Z
UID:10007691-1781348400-1781373600@dumbo.nyc
SUMMARY:FAD Market: Summer Pop-up [Dumbo]
DESCRIPTION:FAD Market returns to Empire Stores in Dumbo this summer with monthly pop-ups in June\, July\, and August. Each edition features a fresh lineup of 35+ makers\, designers\, and small businesses from New York and beyond. \nShop a curated mix of handmade jewelry\, apparel\, home goods\, and artisanal food inside the iconic Empire Stores building. Make a day of it—grab a bite at Time Out Market\, explore Brooklyn Bridge Park\, and take in the waterfront views. \nFor more information visit www.fadmarket.co
URL:https://dumbo.nyc/event/fad-market-summer-pop-up-dumbo/2026-06-13/
LOCATION:Empire Stores Lobby\, 53-83 Water St\, Brooklyn\, 11201\, United States
CATEGORIES:Pop Up
ATTACH;FMTTYPE=image/jpeg:https://dumbo.nyc/wp-content/uploads/2026/04/ES.jpeg
ORGANIZER;CN="FAD Market":MAILTO:info@fadmarket.co
END:VEVENT
BEGIN:VEVENT
DTSTART;TZID=America/New_York:20260614T110000
DTEND;TZID=America/New_York:20260614T180000
DTSTAMP:20260424T125642
CREATED:20260423T144048Z
LAST-MODIFIED:20260423T144107Z
UID:10007692-1781434800-1781460000@dumbo.nyc
SUMMARY:FAD Market: Summer Pop-up [Dumbo]
DESCRIPTION:FAD Market returns to Empire Stores in Dumbo this summer with monthly pop-ups in June\, July\, and August. Each edition features a fresh lineup of 35+ makers\, designers\, and small businesses from New York and beyond. \nShop a curated mix of handmade jewelry\, apparel\, home goods\, and artisanal food inside the iconic Empire Stores building. Make a day of it—grab a bite at Time Out Market\, explore Brooklyn Bridge Park\, and take in the waterfront views. \nFor more information visit www.fadmarket.co
URL:https://dumbo.nyc/event/fad-market-summer-pop-up-dumbo/2026-06-14/
LOCATION:Empire Stores Lobby\, 53-83 Water St\, Brooklyn\, 11201\, United States
CATEGORIES:Pop Up
ATTACH;FMTTYPE=image/jpeg:https://dumbo.nyc/wp-content/uploads/2026/04/ES.jpeg
ORGANIZER;CN="FAD Market":MAILTO:info@fadmarket.co
END:VEVENT
BEGIN:VEVENT
DTSTART;TZID=America/New_York:20260711T110000
DTEND;TZID=America/New_York:20260711T180000
DTSTAMP:20260424T125642
CREATED:20260423T144048Z
LAST-MODIFIED:20260423T144107Z
UID:10007702-1783767600-1783792800@dumbo.nyc
SUMMARY:FAD Market: Summer Pop-up [Dumbo]
DESCRIPTION:FAD Market returns to Empire Stores in Dumbo this summer with monthly pop-ups in June\, July\, and August. Each edition features a fresh lineup of 35+ makers\, designers\, and small businesses from New York and beyond. \nShop a curated mix of handmade jewelry\, apparel\, home goods\, and artisanal food inside the iconic Empire Stores building. Make a day of it—grab a bite at Time Out Market\, explore Brooklyn Bridge Park\, and take in the waterfront views. \nFor more information visit www.fadmarket.co
URL:https://dumbo.nyc/event/fad-market-summer-pop-up-dumbo/2026-07-11/
LOCATION:Empire Stores Lobby\, 53-83 Water St\, Brooklyn\, 11201\, United States
CATEGORIES:Pop Up
ATTACH;FMTTYPE=image/jpeg:https://dumbo.nyc/wp-content/uploads/2026/04/ES.jpeg
ORGANIZER;CN="FAD Market":MAILTO:info@fadmarket.co
END:VEVENT
BEGIN:VEVENT
DTSTART;TZID=America/New_York:20260712T110000
DTEND;TZID=America/New_York:20260712T180000
DTSTAMP:20260424T125642
CREATED:20260423T144048Z
LAST-MODIFIED:20260423T144107Z
UID:10007693-1783854000-1783879200@dumbo.nyc
SUMMARY:FAD Market: Summer Pop-up [Dumbo]
DESCRIPTION:FAD Market returns to Empire Stores in Dumbo this summer with monthly pop-ups in June\, July\, and August. Each edition features a fresh lineup of 35+ makers\, designers\, and small businesses from New York and beyond. \nShop a curated mix of handmade jewelry\, apparel\, home goods\, and artisanal food inside the iconic Empire Stores building. Make a day of it—grab a bite at Time Out Market\, explore Brooklyn Bridge Park\, and take in the waterfront views. \nFor more information visit www.fadmarket.co
URL:https://dumbo.nyc/event/fad-market-summer-pop-up-dumbo/2026-07-12/
LOCATION:Empire Stores Lobby\, 53-83 Water St\, Brooklyn\, 11201\, United States
CATEGORIES:Pop Up
ATTACH;FMTTYPE=image/jpeg:https://dumbo.nyc/wp-content/uploads/2026/04/ES.jpeg
ORGANIZER;CN="FAD Market":MAILTO:info@fadmarket.co
END:VEVENT
BEGIN:VEVENT
DTSTART;TZID=America/New_York:20260808T110000
DTEND;TZID=America/New_York:20260808T180000
DTSTAMP:20260424T125642
CREATED:20260423T144048Z
LAST-MODIFIED:20260423T144107Z
UID:10007694-1786186800-1786212000@dumbo.nyc
SUMMARY:FAD Market: Summer Pop-up [Dumbo]
DESCRIPTION:FAD Market returns to Empire Stores in Dumbo this summer with monthly pop-ups in June\, July\, and August. Each edition features a fresh lineup of 35+ makers\, designers\, and small businesses from New York and beyond. \nShop a curated mix of handmade jewelry\, apparel\, home goods\, and artisanal food inside the iconic Empire Stores building. Make a day of it—grab a bite at Time Out Market\, explore Brooklyn Bridge Park\, and take in the waterfront views. \nFor more information visit www.fadmarket.co
URL:https://dumbo.nyc/event/fad-market-summer-pop-up-dumbo/2026-08-08/
LOCATION:Empire Stores Lobby\, 53-83 Water St\, Brooklyn\, 11201\, United States
CATEGORIES:Pop Up
ATTACH;FMTTYPE=image/jpeg:https://dumbo.nyc/wp-content/uploads/2026/04/ES.jpeg
ORGANIZER;CN="FAD Market":MAILTO:info@fadmarket.co
END:VEVENT
BEGIN:VEVENT
DTSTART;TZID=America/New_York:20260809T110000
DTEND;TZID=America/New_York:20260809T180000
DTSTAMP:20260424T125642
CREATED:20260423T144048Z
LAST-MODIFIED:20260423T144107Z
UID:10007695-1786273200-1786298400@dumbo.nyc
SUMMARY:FAD Market: Summer Pop-up [Dumbo]
DESCRIPTION:FAD Market returns to Empire Stores in Dumbo this summer with monthly pop-ups in June\, July\, and August. Each edition features a fresh lineup of 35+ makers\, designers\, and small businesses from New York and beyond. \nShop a curated mix of handmade jewelry\, apparel\, home goods\, and artisanal food inside the iconic Empire Stores building. Make a day of it—grab a bite at Time Out Market\, explore Brooklyn Bridge Park\, and take in the waterfront views. \nFor more information visit www.fadmarket.co
URL:https://dumbo.nyc/event/fad-market-summer-pop-up-dumbo/2026-08-09/
LOCATION:Empire Stores Lobby\, 53-83 Water St\, Brooklyn\, 11201\, United States
CATEGORIES:Pop Up
ATTACH;FMTTYPE=image/jpeg:https://dumbo.nyc/wp-content/uploads/2026/04/ES.jpeg
ORGANIZER;CN="FAD Market":MAILTO:info@fadmarket.co
END:VEVENT
END:VCALENDAR