BEGIN:VCALENDAR
VERSION:2.0
PRODID:-//Dumbo, Brooklyn - ECPv6.13.2.1//NONSGML v1.0//EN
CALSCALE:GREGORIAN
METHOD:PUBLISH
X-ORIGINAL-URL:https://dumbo.nyc
X-WR-CALDESC:Events for Dumbo, Brooklyn
REFRESH-INTERVAL;VALUE=DURATION:PT1H
X-Robots-Tag:noindex
X-PUBLISHED-TTL:PT1H
BEGIN:VTIMEZONE
TZID:America/New_York
BEGIN:DAYLIGHT
TZOFFSETFROM:-0500
TZOFFSETTO:-0400
TZNAME:EDT
DTSTART:20270314T070000
END:DAYLIGHT
BEGIN:STANDARD
TZOFFSETFROM:-0400
TZOFFSETTO:-0500
TZNAME:EST
DTSTART:20271107T060000
END:STANDARD
BEGIN:DAYLIGHT
TZOFFSETFROM:-0500
TZOFFSETTO:-0400
TZNAME:EDT
DTSTART:20280312T070000
END:DAYLIGHT
BEGIN:STANDARD
TZOFFSETFROM:-0400
TZOFFSETTO:-0500
TZNAME:EST
DTSTART:20281105T060000
END:STANDARD
BEGIN:DAYLIGHT
TZOFFSETFROM:-0500
TZOFFSETTO:-0400
TZNAME:EDT
DTSTART:20290311T070000
END:DAYLIGHT
BEGIN:STANDARD
TZOFFSETFROM:-0400
TZOFFSETTO:-0500
TZNAME:EST
DTSTART:20291104T060000
END:STANDARD
BEGIN:DAYLIGHT
TZOFFSETFROM:-0500
TZOFFSETTO:-0400
TZNAME:EDT
DTSTART:20300310T070000
END:DAYLIGHT
BEGIN:STANDARD
TZOFFSETFROM:-0400
TZOFFSETTO:-0500
TZNAME:EST
DTSTART:20301103T060000
END:STANDARD
END:VTIMEZONE
BEGIN:VEVENT
DTSTART;TZID=America/New_York:20271103T170000
DTEND;TZID=America/New_York:20271103T220000
DTSTAMP:20260424T070652
CREATED:20260420T171016Z
LAST-MODIFIED:20260420T171016Z
UID:10007636-1825261200-1825279200@dumbo.nyc
SUMMARY:Dumbo Happy Hour
DESCRIPTION:Every first Wednesday of the month\, enjoy a Dumbo-wide happy hour! \nFeaturing happy hour specials: $6 beer | $9 wine | $9 mocktails | $12 cocktails \nAt 12+ bars throughout the neighborhood. \nPlus collectible stickers and other fun!
URL:https://dumbo.nyc/event/dumbo-happy-hour/2027-11-03/
LOCATION:Dumbo-Wide\, 11201\, United States
CATEGORIES:Food & Beverage,Happy Hour
ATTACH;FMTTYPE=image/png:https://dumbo.nyc/wp-content/uploads/2026/02/Dumbo-Happy-Hour-Kinjo.png
ORGANIZER;CN="Team Dumbo":MAILTO:dumbo@dumbo.nyc
END:VEVENT
BEGIN:VEVENT
DTSTART;TZID=America/New_York:20271201T170000
DTEND;TZID=America/New_York:20271201T220000
DTSTAMP:20260424T070652
CREATED:20260420T171016Z
LAST-MODIFIED:20260420T171016Z
UID:10007637-1827680400-1827698400@dumbo.nyc
SUMMARY:Dumbo Happy Hour
DESCRIPTION:Every first Wednesday of the month\, enjoy a Dumbo-wide happy hour! \nFeaturing happy hour specials: $6 beer | $9 wine | $9 mocktails | $12 cocktails \nAt 12+ bars throughout the neighborhood. \nPlus collectible stickers and other fun!
URL:https://dumbo.nyc/event/dumbo-happy-hour/2027-12-01/
LOCATION:Dumbo-Wide\, 11201\, United States
CATEGORIES:Food & Beverage,Happy Hour
ATTACH;FMTTYPE=image/png:https://dumbo.nyc/wp-content/uploads/2026/02/Dumbo-Happy-Hour-Kinjo.png
ORGANIZER;CN="Team Dumbo":MAILTO:dumbo@dumbo.nyc
END:VEVENT
BEGIN:VEVENT
DTSTART;TZID=America/New_York:20280105T170000
DTEND;TZID=America/New_York:20280105T220000
DTSTAMP:20260424T070652
CREATED:20260420T171016Z
LAST-MODIFIED:20260420T171016Z
UID:10007638-1830704400-1830722400@dumbo.nyc
SUMMARY:Dumbo Happy Hour
DESCRIPTION:Every first Wednesday of the month\, enjoy a Dumbo-wide happy hour! \nFeaturing happy hour specials: $6 beer | $9 wine | $9 mocktails | $12 cocktails \nAt 12+ bars throughout the neighborhood. \nPlus collectible stickers and other fun!
URL:https://dumbo.nyc/event/dumbo-happy-hour/2028-01-05/
LOCATION:Dumbo-Wide\, 11201\, United States
CATEGORIES:Food & Beverage,Happy Hour
ATTACH;FMTTYPE=image/png:https://dumbo.nyc/wp-content/uploads/2026/02/Dumbo-Happy-Hour-Kinjo.png
ORGANIZER;CN="Team Dumbo":MAILTO:dumbo@dumbo.nyc
END:VEVENT
BEGIN:VEVENT
DTSTART;TZID=America/New_York:20280202T170000
DTEND;TZID=America/New_York:20280202T220000
DTSTAMP:20260424T070652
CREATED:20260420T171016Z
LAST-MODIFIED:20260420T171016Z
UID:10007639-1833123600-1833141600@dumbo.nyc
SUMMARY:Dumbo Happy Hour
DESCRIPTION:Every first Wednesday of the month\, enjoy a Dumbo-wide happy hour! \nFeaturing happy hour specials: $6 beer | $9 wine | $9 mocktails | $12 cocktails \nAt 12+ bars throughout the neighborhood. \nPlus collectible stickers and other fun!
URL:https://dumbo.nyc/event/dumbo-happy-hour/2028-02-02/
LOCATION:Dumbo-Wide\, 11201\, United States
CATEGORIES:Food & Beverage,Happy Hour
ATTACH;FMTTYPE=image/png:https://dumbo.nyc/wp-content/uploads/2026/02/Dumbo-Happy-Hour-Kinjo.png
ORGANIZER;CN="Team Dumbo":MAILTO:dumbo@dumbo.nyc
END:VEVENT
BEGIN:VEVENT
DTSTART;TZID=America/New_York:20280301T170000
DTEND;TZID=America/New_York:20280301T220000
DTSTAMP:20260424T070652
CREATED:20260420T171016Z
LAST-MODIFIED:20260420T171016Z
UID:10007640-1835542800-1835560800@dumbo.nyc
SUMMARY:Dumbo Happy Hour
DESCRIPTION:Every first Wednesday of the month\, enjoy a Dumbo-wide happy hour! \nFeaturing happy hour specials: $6 beer | $9 wine | $9 mocktails | $12 cocktails \nAt 12+ bars throughout the neighborhood. \nPlus collectible stickers and other fun!
URL:https://dumbo.nyc/event/dumbo-happy-hour/2028-03-01/
LOCATION:Dumbo-Wide\, 11201\, United States
CATEGORIES:Food & Beverage,Happy Hour
ATTACH;FMTTYPE=image/png:https://dumbo.nyc/wp-content/uploads/2026/02/Dumbo-Happy-Hour-Kinjo.png
ORGANIZER;CN="Team Dumbo":MAILTO:dumbo@dumbo.nyc
END:VEVENT
BEGIN:VEVENT
DTSTART;TZID=America/New_York:20280405T170000
DTEND;TZID=America/New_York:20280405T220000
DTSTAMP:20260424T070652
CREATED:20260420T171016Z
LAST-MODIFIED:20260420T171016Z
UID:10007641-1838566800-1838584800@dumbo.nyc
SUMMARY:Dumbo Happy Hour
DESCRIPTION:Every first Wednesday of the month\, enjoy a Dumbo-wide happy hour! \nFeaturing happy hour specials: $6 beer | $9 wine | $9 mocktails | $12 cocktails \nAt 12+ bars throughout the neighborhood. \nPlus collectible stickers and other fun!
URL:https://dumbo.nyc/event/dumbo-happy-hour/2028-04-05/
LOCATION:Dumbo-Wide\, 11201\, United States
CATEGORIES:Food & Beverage,Happy Hour
ATTACH;FMTTYPE=image/png:https://dumbo.nyc/wp-content/uploads/2026/02/Dumbo-Happy-Hour-Kinjo.png
ORGANIZER;CN="Team Dumbo":MAILTO:dumbo@dumbo.nyc
END:VEVENT
BEGIN:VEVENT
DTSTART;TZID=America/New_York:20280503T170000
DTEND;TZID=America/New_York:20280503T220000
DTSTAMP:20260424T070652
CREATED:20260420T171016Z
LAST-MODIFIED:20260420T171016Z
UID:10007642-1840986000-1841004000@dumbo.nyc
SUMMARY:Dumbo Happy Hour
DESCRIPTION:Every first Wednesday of the month\, enjoy a Dumbo-wide happy hour! \nFeaturing happy hour specials: $6 beer | $9 wine | $9 mocktails | $12 cocktails \nAt 12+ bars throughout the neighborhood. \nPlus collectible stickers and other fun!
URL:https://dumbo.nyc/event/dumbo-happy-hour/2028-05-03/
LOCATION:Dumbo-Wide\, 11201\, United States
CATEGORIES:Food & Beverage,Happy Hour
ATTACH;FMTTYPE=image/png:https://dumbo.nyc/wp-content/uploads/2026/02/Dumbo-Happy-Hour-Kinjo.png
ORGANIZER;CN="Team Dumbo":MAILTO:dumbo@dumbo.nyc
END:VEVENT
BEGIN:VEVENT
DTSTART;TZID=America/New_York:20280607T170000
DTEND;TZID=America/New_York:20280607T220000
DTSTAMP:20260424T070652
CREATED:20260420T171016Z
LAST-MODIFIED:20260420T171016Z
UID:10007643-1844010000-1844028000@dumbo.nyc
SUMMARY:Dumbo Happy Hour
DESCRIPTION:Every first Wednesday of the month\, enjoy a Dumbo-wide happy hour! \nFeaturing happy hour specials: $6 beer | $9 wine | $9 mocktails | $12 cocktails \nAt 12+ bars throughout the neighborhood. \nPlus collectible stickers and other fun!
URL:https://dumbo.nyc/event/dumbo-happy-hour/2028-06-07/
LOCATION:Dumbo-Wide\, 11201\, United States
CATEGORIES:Food & Beverage,Happy Hour
ATTACH;FMTTYPE=image/png:https://dumbo.nyc/wp-content/uploads/2026/02/Dumbo-Happy-Hour-Kinjo.png
ORGANIZER;CN="Team Dumbo":MAILTO:dumbo@dumbo.nyc
END:VEVENT
BEGIN:VEVENT
DTSTART;TZID=America/New_York:20280705T170000
DTEND;TZID=America/New_York:20280705T220000
DTSTAMP:20260424T070652
CREATED:20260420T171016Z
LAST-MODIFIED:20260420T171016Z
UID:10007644-1846429200-1846447200@dumbo.nyc
SUMMARY:Dumbo Happy Hour
DESCRIPTION:Every first Wednesday of the month\, enjoy a Dumbo-wide happy hour! \nFeaturing happy hour specials: $6 beer | $9 wine | $9 mocktails | $12 cocktails \nAt 12+ bars throughout the neighborhood. \nPlus collectible stickers and other fun!
URL:https://dumbo.nyc/event/dumbo-happy-hour/2028-07-05/
LOCATION:Dumbo-Wide\, 11201\, United States
CATEGORIES:Food & Beverage,Happy Hour
ATTACH;FMTTYPE=image/png:https://dumbo.nyc/wp-content/uploads/2026/02/Dumbo-Happy-Hour-Kinjo.png
ORGANIZER;CN="Team Dumbo":MAILTO:dumbo@dumbo.nyc
END:VEVENT
BEGIN:VEVENT
DTSTART;TZID=America/New_York:20280802T170000
DTEND;TZID=America/New_York:20280802T220000
DTSTAMP:20260424T070652
CREATED:20260420T171016Z
LAST-MODIFIED:20260420T171016Z
UID:10007645-1848848400-1848866400@dumbo.nyc
SUMMARY:Dumbo Happy Hour
DESCRIPTION:Every first Wednesday of the month\, enjoy a Dumbo-wide happy hour! \nFeaturing happy hour specials: $6 beer | $9 wine | $9 mocktails | $12 cocktails \nAt 12+ bars throughout the neighborhood. \nPlus collectible stickers and other fun!
URL:https://dumbo.nyc/event/dumbo-happy-hour/2028-08-02/
LOCATION:Dumbo-Wide\, 11201\, United States
CATEGORIES:Food & Beverage,Happy Hour
ATTACH;FMTTYPE=image/png:https://dumbo.nyc/wp-content/uploads/2026/02/Dumbo-Happy-Hour-Kinjo.png
ORGANIZER;CN="Team Dumbo":MAILTO:dumbo@dumbo.nyc
END:VEVENT
BEGIN:VEVENT
DTSTART;TZID=America/New_York:20280906T170000
DTEND;TZID=America/New_York:20280906T220000
DTSTAMP:20260424T070652
CREATED:20260420T171016Z
LAST-MODIFIED:20260420T171016Z
UID:10007646-1851872400-1851890400@dumbo.nyc
SUMMARY:Dumbo Happy Hour
DESCRIPTION:Every first Wednesday of the month\, enjoy a Dumbo-wide happy hour! \nFeaturing happy hour specials: $6 beer | $9 wine | $9 mocktails | $12 cocktails \nAt 12+ bars throughout the neighborhood. \nPlus collectible stickers and other fun!
URL:https://dumbo.nyc/event/dumbo-happy-hour/2028-09-06/
LOCATION:Dumbo-Wide\, 11201\, United States
CATEGORIES:Food & Beverage,Happy Hour
ATTACH;FMTTYPE=image/png:https://dumbo.nyc/wp-content/uploads/2026/02/Dumbo-Happy-Hour-Kinjo.png
ORGANIZER;CN="Team Dumbo":MAILTO:dumbo@dumbo.nyc
END:VEVENT
BEGIN:VEVENT
DTSTART;TZID=America/New_York:20281004T170000
DTEND;TZID=America/New_York:20281004T220000
DTSTAMP:20260424T070652
CREATED:20260420T171016Z
LAST-MODIFIED:20260420T171016Z
UID:10007647-1854291600-1854309600@dumbo.nyc
SUMMARY:Dumbo Happy Hour
DESCRIPTION:Every first Wednesday of the month\, enjoy a Dumbo-wide happy hour! \nFeaturing happy hour specials: $6 beer | $9 wine | $9 mocktails | $12 cocktails \nAt 12+ bars throughout the neighborhood. \nPlus collectible stickers and other fun!
URL:https://dumbo.nyc/event/dumbo-happy-hour/2028-10-04/
LOCATION:Dumbo-Wide\, 11201\, United States
CATEGORIES:Food & Beverage,Happy Hour
ATTACH;FMTTYPE=image/png:https://dumbo.nyc/wp-content/uploads/2026/02/Dumbo-Happy-Hour-Kinjo.png
ORGANIZER;CN="Team Dumbo":MAILTO:dumbo@dumbo.nyc
END:VEVENT
BEGIN:VEVENT
DTSTART;TZID=America/New_York:20281101T170000
DTEND;TZID=America/New_York:20281101T220000
DTSTAMP:20260424T070652
CREATED:20260420T171016Z
LAST-MODIFIED:20260420T171016Z
UID:10007648-1856710800-1856728800@dumbo.nyc
SUMMARY:Dumbo Happy Hour
DESCRIPTION:Every first Wednesday of the month\, enjoy a Dumbo-wide happy hour! \nFeaturing happy hour specials: $6 beer | $9 wine | $9 mocktails | $12 cocktails \nAt 12+ bars throughout the neighborhood. \nPlus collectible stickers and other fun!
URL:https://dumbo.nyc/event/dumbo-happy-hour/2028-11-01/
LOCATION:Dumbo-Wide\, 11201\, United States
CATEGORIES:Food & Beverage,Happy Hour
ATTACH;FMTTYPE=image/png:https://dumbo.nyc/wp-content/uploads/2026/02/Dumbo-Happy-Hour-Kinjo.png
ORGANIZER;CN="Team Dumbo":MAILTO:dumbo@dumbo.nyc
END:VEVENT
BEGIN:VEVENT
DTSTART;TZID=America/New_York:20281206T170000
DTEND;TZID=America/New_York:20281206T220000
DTSTAMP:20260424T070652
CREATED:20260420T171016Z
LAST-MODIFIED:20260420T171016Z
UID:10007649-1859734800-1859752800@dumbo.nyc
SUMMARY:Dumbo Happy Hour
DESCRIPTION:Every first Wednesday of the month\, enjoy a Dumbo-wide happy hour! \nFeaturing happy hour specials: $6 beer | $9 wine | $9 mocktails | $12 cocktails \nAt 12+ bars throughout the neighborhood. \nPlus collectible stickers and other fun!
URL:https://dumbo.nyc/event/dumbo-happy-hour/2028-12-06/
LOCATION:Dumbo-Wide\, 11201\, United States
CATEGORIES:Food & Beverage,Happy Hour
ATTACH;FMTTYPE=image/png:https://dumbo.nyc/wp-content/uploads/2026/02/Dumbo-Happy-Hour-Kinjo.png
ORGANIZER;CN="Team Dumbo":MAILTO:dumbo@dumbo.nyc
END:VEVENT
BEGIN:VEVENT
DTSTART;TZID=America/New_York:20290103T170000
DTEND;TZID=America/New_York:20290103T220000
DTSTAMP:20260424T070652
CREATED:20260420T171016Z
LAST-MODIFIED:20260420T171016Z
UID:10007650-1862154000-1862172000@dumbo.nyc
SUMMARY:Dumbo Happy Hour
DESCRIPTION:Every first Wednesday of the month\, enjoy a Dumbo-wide happy hour! \nFeaturing happy hour specials: $6 beer | $9 wine | $9 mocktails | $12 cocktails \nAt 12+ bars throughout the neighborhood. \nPlus collectible stickers and other fun!
URL:https://dumbo.nyc/event/dumbo-happy-hour/2029-01-03/
LOCATION:Dumbo-Wide\, 11201\, United States
CATEGORIES:Food & Beverage,Happy Hour
ATTACH;FMTTYPE=image/png:https://dumbo.nyc/wp-content/uploads/2026/02/Dumbo-Happy-Hour-Kinjo.png
ORGANIZER;CN="Team Dumbo":MAILTO:dumbo@dumbo.nyc
END:VEVENT
BEGIN:VEVENT
DTSTART;TZID=America/New_York:20290207T170000
DTEND;TZID=America/New_York:20290207T220000
DTSTAMP:20260424T070652
CREATED:20260420T171016Z
LAST-MODIFIED:20260420T171016Z
UID:10007651-1865178000-1865196000@dumbo.nyc
SUMMARY:Dumbo Happy Hour
DESCRIPTION:Every first Wednesday of the month\, enjoy a Dumbo-wide happy hour! \nFeaturing happy hour specials: $6 beer | $9 wine | $9 mocktails | $12 cocktails \nAt 12+ bars throughout the neighborhood. \nPlus collectible stickers and other fun!
URL:https://dumbo.nyc/event/dumbo-happy-hour/2029-02-07/
LOCATION:Dumbo-Wide\, 11201\, United States
CATEGORIES:Food & Beverage,Happy Hour
ATTACH;FMTTYPE=image/png:https://dumbo.nyc/wp-content/uploads/2026/02/Dumbo-Happy-Hour-Kinjo.png
ORGANIZER;CN="Team Dumbo":MAILTO:dumbo@dumbo.nyc
END:VEVENT
BEGIN:VEVENT
DTSTART;TZID=America/New_York:20290307T170000
DTEND;TZID=America/New_York:20290307T220000
DTSTAMP:20260424T070652
CREATED:20260420T171016Z
LAST-MODIFIED:20260420T171016Z
UID:10007652-1867597200-1867615200@dumbo.nyc
SUMMARY:Dumbo Happy Hour
DESCRIPTION:Every first Wednesday of the month\, enjoy a Dumbo-wide happy hour! \nFeaturing happy hour specials: $6 beer | $9 wine | $9 mocktails | $12 cocktails \nAt 12+ bars throughout the neighborhood. \nPlus collectible stickers and other fun!
URL:https://dumbo.nyc/event/dumbo-happy-hour/2029-03-07/
LOCATION:Dumbo-Wide\, 11201\, United States
CATEGORIES:Food & Beverage,Happy Hour
ATTACH;FMTTYPE=image/png:https://dumbo.nyc/wp-content/uploads/2026/02/Dumbo-Happy-Hour-Kinjo.png
ORGANIZER;CN="Team Dumbo":MAILTO:dumbo@dumbo.nyc
END:VEVENT
BEGIN:VEVENT
DTSTART;TZID=America/New_York:20290404T170000
DTEND;TZID=America/New_York:20290404T220000
DTSTAMP:20260424T070652
CREATED:20260420T171016Z
LAST-MODIFIED:20260420T171016Z
UID:10007653-1870016400-1870034400@dumbo.nyc
SUMMARY:Dumbo Happy Hour
DESCRIPTION:Every first Wednesday of the month\, enjoy a Dumbo-wide happy hour! \nFeaturing happy hour specials: $6 beer | $9 wine | $9 mocktails | $12 cocktails \nAt 12+ bars throughout the neighborhood. \nPlus collectible stickers and other fun!
URL:https://dumbo.nyc/event/dumbo-happy-hour/2029-04-04/
LOCATION:Dumbo-Wide\, 11201\, United States
CATEGORIES:Food & Beverage,Happy Hour
ATTACH;FMTTYPE=image/png:https://dumbo.nyc/wp-content/uploads/2026/02/Dumbo-Happy-Hour-Kinjo.png
ORGANIZER;CN="Team Dumbo":MAILTO:dumbo@dumbo.nyc
END:VEVENT
BEGIN:VEVENT
DTSTART;TZID=America/New_York:20290502T170000
DTEND;TZID=America/New_York:20290502T220000
DTSTAMP:20260424T070652
CREATED:20260420T171016Z
LAST-MODIFIED:20260420T171016Z
UID:10007654-1872435600-1872453600@dumbo.nyc
SUMMARY:Dumbo Happy Hour
DESCRIPTION:Every first Wednesday of the month\, enjoy a Dumbo-wide happy hour! \nFeaturing happy hour specials: $6 beer | $9 wine | $9 mocktails | $12 cocktails \nAt 12+ bars throughout the neighborhood. \nPlus collectible stickers and other fun!
URL:https://dumbo.nyc/event/dumbo-happy-hour/2029-05-02/
LOCATION:Dumbo-Wide\, 11201\, United States
CATEGORIES:Food & Beverage,Happy Hour
ATTACH;FMTTYPE=image/png:https://dumbo.nyc/wp-content/uploads/2026/02/Dumbo-Happy-Hour-Kinjo.png
ORGANIZER;CN="Team Dumbo":MAILTO:dumbo@dumbo.nyc
END:VEVENT
BEGIN:VEVENT
DTSTART;TZID=America/New_York:20290606T170000
DTEND;TZID=America/New_York:20290606T220000
DTSTAMP:20260424T070652
CREATED:20260420T171016Z
LAST-MODIFIED:20260420T171016Z
UID:10007655-1875459600-1875477600@dumbo.nyc
SUMMARY:Dumbo Happy Hour
DESCRIPTION:Every first Wednesday of the month\, enjoy a Dumbo-wide happy hour! \nFeaturing happy hour specials: $6 beer | $9 wine | $9 mocktails | $12 cocktails \nAt 12+ bars throughout the neighborhood. \nPlus collectible stickers and other fun!
URL:https://dumbo.nyc/event/dumbo-happy-hour/2029-06-06/
LOCATION:Dumbo-Wide\, 11201\, United States
CATEGORIES:Food & Beverage,Happy Hour
ATTACH;FMTTYPE=image/png:https://dumbo.nyc/wp-content/uploads/2026/02/Dumbo-Happy-Hour-Kinjo.png
ORGANIZER;CN="Team Dumbo":MAILTO:dumbo@dumbo.nyc
END:VEVENT
BEGIN:VEVENT
DTSTART;TZID=America/New_York:20290704T170000
DTEND;TZID=America/New_York:20290704T220000
DTSTAMP:20260424T070652
CREATED:20260420T171016Z
LAST-MODIFIED:20260420T171016Z
UID:10007656-1877878800-1877896800@dumbo.nyc
SUMMARY:Dumbo Happy Hour
DESCRIPTION:Every first Wednesday of the month\, enjoy a Dumbo-wide happy hour! \nFeaturing happy hour specials: $6 beer | $9 wine | $9 mocktails | $12 cocktails \nAt 12+ bars throughout the neighborhood. \nPlus collectible stickers and other fun!
URL:https://dumbo.nyc/event/dumbo-happy-hour/2029-07-04/
LOCATION:Dumbo-Wide\, 11201\, United States
CATEGORIES:Food & Beverage,Happy Hour
ATTACH;FMTTYPE=image/png:https://dumbo.nyc/wp-content/uploads/2026/02/Dumbo-Happy-Hour-Kinjo.png
ORGANIZER;CN="Team Dumbo":MAILTO:dumbo@dumbo.nyc
END:VEVENT
BEGIN:VEVENT
DTSTART;TZID=America/New_York:20290801T170000
DTEND;TZID=America/New_York:20290801T220000
DTSTAMP:20260424T070652
CREATED:20260420T171016Z
LAST-MODIFIED:20260420T171016Z
UID:10007657-1880298000-1880316000@dumbo.nyc
SUMMARY:Dumbo Happy Hour
DESCRIPTION:Every first Wednesday of the month\, enjoy a Dumbo-wide happy hour! \nFeaturing happy hour specials: $6 beer | $9 wine | $9 mocktails | $12 cocktails \nAt 12+ bars throughout the neighborhood. \nPlus collectible stickers and other fun!
URL:https://dumbo.nyc/event/dumbo-happy-hour/2029-08-01/
LOCATION:Dumbo-Wide\, 11201\, United States
CATEGORIES:Food & Beverage,Happy Hour
ATTACH;FMTTYPE=image/png:https://dumbo.nyc/wp-content/uploads/2026/02/Dumbo-Happy-Hour-Kinjo.png
ORGANIZER;CN="Team Dumbo":MAILTO:dumbo@dumbo.nyc
END:VEVENT
BEGIN:VEVENT
DTSTART;TZID=America/New_York:20290905T170000
DTEND;TZID=America/New_York:20290905T220000
DTSTAMP:20260424T070652
CREATED:20260420T171016Z
LAST-MODIFIED:20260420T171016Z
UID:10007658-1883322000-1883340000@dumbo.nyc
SUMMARY:Dumbo Happy Hour
DESCRIPTION:Every first Wednesday of the month\, enjoy a Dumbo-wide happy hour! \nFeaturing happy hour specials: $6 beer | $9 wine | $9 mocktails | $12 cocktails \nAt 12+ bars throughout the neighborhood. \nPlus collectible stickers and other fun!
URL:https://dumbo.nyc/event/dumbo-happy-hour/2029-09-05/
LOCATION:Dumbo-Wide\, 11201\, United States
CATEGORIES:Food & Beverage,Happy Hour
ATTACH;FMTTYPE=image/png:https://dumbo.nyc/wp-content/uploads/2026/02/Dumbo-Happy-Hour-Kinjo.png
ORGANIZER;CN="Team Dumbo":MAILTO:dumbo@dumbo.nyc
END:VEVENT
BEGIN:VEVENT
DTSTART;TZID=America/New_York:20291003T170000
DTEND;TZID=America/New_York:20291003T220000
DTSTAMP:20260424T070652
CREATED:20260420T171016Z
LAST-MODIFIED:20260420T171016Z
UID:10007659-1885741200-1885759200@dumbo.nyc
SUMMARY:Dumbo Happy Hour
DESCRIPTION:Every first Wednesday of the month\, enjoy a Dumbo-wide happy hour! \nFeaturing happy hour specials: $6 beer | $9 wine | $9 mocktails | $12 cocktails \nAt 12+ bars throughout the neighborhood. \nPlus collectible stickers and other fun!
URL:https://dumbo.nyc/event/dumbo-happy-hour/2029-10-03/
LOCATION:Dumbo-Wide\, 11201\, United States
CATEGORIES:Food & Beverage,Happy Hour
ATTACH;FMTTYPE=image/png:https://dumbo.nyc/wp-content/uploads/2026/02/Dumbo-Happy-Hour-Kinjo.png
ORGANIZER;CN="Team Dumbo":MAILTO:dumbo@dumbo.nyc
END:VEVENT
BEGIN:VEVENT
DTSTART;TZID=America/New_York:20291107T170000
DTEND;TZID=America/New_York:20291107T220000
DTSTAMP:20260424T070652
CREATED:20260420T171016Z
LAST-MODIFIED:20260420T171016Z
UID:10007660-1888765200-1888783200@dumbo.nyc
SUMMARY:Dumbo Happy Hour
DESCRIPTION:Every first Wednesday of the month\, enjoy a Dumbo-wide happy hour! \nFeaturing happy hour specials: $6 beer | $9 wine | $9 mocktails | $12 cocktails \nAt 12+ bars throughout the neighborhood. \nPlus collectible stickers and other fun!
URL:https://dumbo.nyc/event/dumbo-happy-hour/2029-11-07/
LOCATION:Dumbo-Wide\, 11201\, United States
CATEGORIES:Food & Beverage,Happy Hour
ATTACH;FMTTYPE=image/png:https://dumbo.nyc/wp-content/uploads/2026/02/Dumbo-Happy-Hour-Kinjo.png
ORGANIZER;CN="Team Dumbo":MAILTO:dumbo@dumbo.nyc
END:VEVENT
BEGIN:VEVENT
DTSTART;TZID=America/New_York:20291205T170000
DTEND;TZID=America/New_York:20291205T220000
DTSTAMP:20260424T070652
CREATED:20260420T171016Z
LAST-MODIFIED:20260420T171016Z
UID:10007661-1891184400-1891202400@dumbo.nyc
SUMMARY:Dumbo Happy Hour
DESCRIPTION:Every first Wednesday of the month\, enjoy a Dumbo-wide happy hour! \nFeaturing happy hour specials: $6 beer | $9 wine | $9 mocktails | $12 cocktails \nAt 12+ bars throughout the neighborhood. \nPlus collectible stickers and other fun!
URL:https://dumbo.nyc/event/dumbo-happy-hour/2029-12-05/
LOCATION:Dumbo-Wide\, 11201\, United States
CATEGORIES:Food & Beverage,Happy Hour
ATTACH;FMTTYPE=image/png:https://dumbo.nyc/wp-content/uploads/2026/02/Dumbo-Happy-Hour-Kinjo.png
ORGANIZER;CN="Team Dumbo":MAILTO:dumbo@dumbo.nyc
END:VEVENT
BEGIN:VEVENT
DTSTART;TZID=America/New_York:20300102T170000
DTEND;TZID=America/New_York:20300102T220000
DTSTAMP:20260424T070652
CREATED:20260420T171016Z
LAST-MODIFIED:20260420T171016Z
UID:10007662-1893603600-1893621600@dumbo.nyc
SUMMARY:Dumbo Happy Hour
DESCRIPTION:Every first Wednesday of the month\, enjoy a Dumbo-wide happy hour! \nFeaturing happy hour specials: $6 beer | $9 wine | $9 mocktails | $12 cocktails \nAt 12+ bars throughout the neighborhood. \nPlus collectible stickers and other fun!
URL:https://dumbo.nyc/event/dumbo-happy-hour/2030-01-02/
LOCATION:Dumbo-Wide\, 11201\, United States
CATEGORIES:Food & Beverage,Happy Hour
ATTACH;FMTTYPE=image/png:https://dumbo.nyc/wp-content/uploads/2026/02/Dumbo-Happy-Hour-Kinjo.png
ORGANIZER;CN="Team Dumbo":MAILTO:dumbo@dumbo.nyc
END:VEVENT
BEGIN:VEVENT
DTSTART;TZID=America/New_York:20300206T170000
DTEND;TZID=America/New_York:20300206T220000
DTSTAMP:20260424T070652
CREATED:20260420T171016Z
LAST-MODIFIED:20260420T171016Z
UID:10007663-1896627600-1896645600@dumbo.nyc
SUMMARY:Dumbo Happy Hour
DESCRIPTION:Every first Wednesday of the month\, enjoy a Dumbo-wide happy hour! \nFeaturing happy hour specials: $6 beer | $9 wine | $9 mocktails | $12 cocktails \nAt 12+ bars throughout the neighborhood. \nPlus collectible stickers and other fun!
URL:https://dumbo.nyc/event/dumbo-happy-hour/2030-02-06/
LOCATION:Dumbo-Wide\, 11201\, United States
CATEGORIES:Food & Beverage,Happy Hour
ATTACH;FMTTYPE=image/png:https://dumbo.nyc/wp-content/uploads/2026/02/Dumbo-Happy-Hour-Kinjo.png
ORGANIZER;CN="Team Dumbo":MAILTO:dumbo@dumbo.nyc
END:VEVENT
BEGIN:VEVENT
DTSTART;TZID=America/New_York:20300306T170000
DTEND;TZID=America/New_York:20300306T220000
DTSTAMP:20260424T070652
CREATED:20260420T171016Z
LAST-MODIFIED:20260420T171016Z
UID:10007664-1899046800-1899064800@dumbo.nyc
SUMMARY:Dumbo Happy Hour
DESCRIPTION:Every first Wednesday of the month\, enjoy a Dumbo-wide happy hour! \nFeaturing happy hour specials: $6 beer | $9 wine | $9 mocktails | $12 cocktails \nAt 12+ bars throughout the neighborhood. \nPlus collectible stickers and other fun!
URL:https://dumbo.nyc/event/dumbo-happy-hour/2030-03-06/
LOCATION:Dumbo-Wide\, 11201\, United States
CATEGORIES:Food & Beverage,Happy Hour
ATTACH;FMTTYPE=image/png:https://dumbo.nyc/wp-content/uploads/2026/02/Dumbo-Happy-Hour-Kinjo.png
ORGANIZER;CN="Team Dumbo":MAILTO:dumbo@dumbo.nyc
END:VEVENT
BEGIN:VEVENT
DTSTART;TZID=America/New_York:20300403T170000
DTEND;TZID=America/New_York:20300403T220000
DTSTAMP:20260424T070652
CREATED:20260420T171016Z
LAST-MODIFIED:20260420T171016Z
UID:10007665-1901466000-1901484000@dumbo.nyc
SUMMARY:Dumbo Happy Hour
DESCRIPTION:Every first Wednesday of the month\, enjoy a Dumbo-wide happy hour! \nFeaturing happy hour specials: $6 beer | $9 wine | $9 mocktails | $12 cocktails \nAt 12+ bars throughout the neighborhood. \nPlus collectible stickers and other fun!
URL:https://dumbo.nyc/event/dumbo-happy-hour/2030-04-03/
LOCATION:Dumbo-Wide\, 11201\, United States
CATEGORIES:Food & Beverage,Happy Hour
ATTACH;FMTTYPE=image/png:https://dumbo.nyc/wp-content/uploads/2026/02/Dumbo-Happy-Hour-Kinjo.png
ORGANIZER;CN="Team Dumbo":MAILTO:dumbo@dumbo.nyc
END:VEVENT
END:VCALENDAR